BEGIN:VCALENDAR
VERSION:2.0
PRODID:-//ArtsConnect - ECPv6.15.20//NONSGML v1.0//EN
CALSCALE:GREGORIAN
METHOD:PUBLISH
X-WR-CALNAME:ArtsConnect
X-ORIGINAL-URL:https://artsconnect.ing
X-WR-CALDESC:Events for ArtsConnect
REFRESH-INTERVAL;VALUE=DURATION:PT1H
X-Robots-Tag:noindex
X-PUBLISHED-TTL:PT1H
BEGIN:VTIMEZONE
TZID:America/Vancouver
BEGIN:DAYLIGHT
TZOFFSETFROM:-0800
TZOFFSETTO:-0700
TZNAME:PDT
DTSTART:20250309T100000
END:DAYLIGHT
BEGIN:STANDARD
TZOFFSETFROM:-0700
TZOFFSETTO:-0800
TZNAME:PST
DTSTART:20251102T090000
END:STANDARD
BEGIN:DAYLIGHT
TZOFFSETFROM:-0800
TZOFFSETTO:-0700
TZNAME:PDT
DTSTART:20260308T100000
END:DAYLIGHT
BEGIN:STANDARD
TZOFFSETFROM:-0700
TZOFFSETTO:-0800
TZNAME:PST
DTSTART:20261101T090000
END:STANDARD
BEGIN:DAYLIGHT
TZOFFSETFROM:-0800
TZOFFSETTO:-0700
TZNAME:PDT
DTSTART:20270314T100000
END:DAYLIGHT
BEGIN:STANDARD
TZOFFSETFROM:-0700
TZOFFSETTO:-0800
TZNAME:PST
DTSTART:20271107T090000
END:STANDARD
END:VTIMEZONE
BEGIN:VEVENT
DTSTART;TZID=America/Vancouver:20260617T180000
DTEND;TZID=America/Vancouver:20260617T203000
DTSTAMP:20260423T172017
CREATED:20260422T193450Z
LAST-MODIFIED:20260422T193450Z
UID:10001280-1781719200-1781728200@artsconnect.ing
SUMMARY:Paint & Play: Tiles & Coasters
DESCRIPTION:Get ready to unleash your creativity in this fun\, hands-on ceramics workshop! \nYou’ll transform plain ceramic tiles into one-of-a-kind artworks using underglazes\, brush techniques\, and playful designs. Choose to create decorative tiles\, a mini wall art set\, or functional coasters—perfect for gifts or brightening up your own space. You can choose between 4tiles of 4.25″ x 4.25″ or 2 tiles of 6″ x 6″. Instructors will guide you step by step\, showing you how to experiment with colors\, patterns\, and textures while adding your personal touches. \nWhether you make a set of small tiles\, larger statement pieces\, or a ribbon-wrapped coaster set\, you’ll leave with unique\, functional ceramics that are as beautiful as they are personal. Bring your imagination and have fun turning clay into art! Due to the kiln-firing process\, finished mugs will be ready for pickup approximately 3–4 weeks after the workshop. \nAbout the Instructor \nDasha Berezhnova is a multimedia artist who picked up ceramics in 2020\, and never looked back. She loves to bring whimsy to wheel-thrown and hand-build forms by incorporating sculptural elements\, cheeky details\, and bright colours. She approaches art-making in a lighthearted and experimental way\, and enjoys helping students find their unique artistic voice\, develop their confidence\, and have fun!
URL:https://artsconnect.ing/artscalendar/paint-play-tiles-coasters/
LOCATION:PoMoArts\, 2425 St. Johns Street\, Port Moody\, BC\, V3H 2B2\, Canada
CATEGORIES:Poetry
ATTACH;FMTTYPE=image/jpeg:https://artsconnect.ing/wp-content/uploads/2026/04/69683942676a8fccfd3080ff_6.jpg
ORGANIZER;CN="PoMoArts":MAILTO:info@pomoarts.ca
END:VEVENT
BEGIN:VEVENT
DTSTART;TZID=America/Vancouver:20260626T180000
DTEND;TZID=America/Vancouver:20260626T200000
DTSTAMP:20260423T172017
CREATED:20260129T172131Z
LAST-MODIFIED:20260129T172131Z
UID:10000965-1782496800-1782504000@artsconnect.ing
SUMMARY:The Culture Club
DESCRIPTION:Join us each month as we discuss a novel\, comic\, movie\, poem\, or other media each rooted in themes of personal cultural heritage\, anti-racism\, and diversity. If you’re looking for a fun way to spend Friday evenings\, connect with community\, or read a more unique array of books\, the Culture Club may be perfect for you! \nHere’s our upcoming discussion line up: \nFebruary: The Sleeping Car Porter by Suzette Mayr (book – pick up at museum)\nMarch: Women Talking by Miriam Towes (book – pick up at museum) AND/OR Women Talking by Sarah Polley (film – available on Prime)\nApril: Beans by Tracey Deer (film – available for free on CBC Gem)\nMay: Denison Avenue by Christina Wong (book – pick up at museum)\nJune: Queer poetry club (we will link to recommendations of LGBTQ poets and people can also come with their own favourite) \nLast Friday of every month from 6 PM to 8 PM.\nRSVP appreciated but not required.\nFree. Ages 18+.\n1116 Brunette Avenue\, Coquitlam.
URL:https://artsconnect.ing/artscalendar/the-culture-club/2026-06-26/
LOCATION:Mackin House\, 1116 Brunette Avenue\, Coquitlam\, BC\, V3K 1G2\, Canada
CATEGORIES:Discussion,Film,Literary Arts,Poetry
ATTACH;FMTTYPE=image/webp:https://artsconnect.ing/wp-content/uploads/2026/01/TheCultureClub-WebImage.webp
ORGANIZER;CN="Coquitlam Heritage":MAILTO:info@coquitlamheritage.ca
END:VEVENT
END:VCALENDAR