BEGIN:VCALENDAR
VERSION:2.0
PRODID:-//ArtsConnect - ECPv6.15.20//NONSGML v1.0//EN
CALSCALE:GREGORIAN
METHOD:PUBLISH
X-WR-CALNAME:ArtsConnect
X-ORIGINAL-URL:https://artsconnect.ing
X-WR-CALDESC:Events for ArtsConnect
REFRESH-INTERVAL;VALUE=DURATION:PT1H
X-Robots-Tag:noindex
X-PUBLISHED-TTL:PT1H
BEGIN:VTIMEZONE
TZID:America/Vancouver
BEGIN:DAYLIGHT
TZOFFSETFROM:-0800
TZOFFSETTO:-0700
TZNAME:PDT
DTSTART:20250309T100000
END:DAYLIGHT
BEGIN:STANDARD
TZOFFSETFROM:-0700
TZOFFSETTO:-0800
TZNAME:PST
DTSTART:20251102T090000
END:STANDARD
BEGIN:DAYLIGHT
TZOFFSETFROM:-0800
TZOFFSETTO:-0700
TZNAME:PDT
DTSTART:20260308T100000
END:DAYLIGHT
BEGIN:STANDARD
TZOFFSETFROM:-0700
TZOFFSETTO:-0800
TZNAME:PST
DTSTART:20261101T090000
END:STANDARD
BEGIN:DAYLIGHT
TZOFFSETFROM:-0800
TZOFFSETTO:-0700
TZNAME:PDT
DTSTART:20270314T100000
END:DAYLIGHT
BEGIN:STANDARD
TZOFFSETFROM:-0700
TZOFFSETTO:-0800
TZNAME:PST
DTSTART:20271107T090000
END:STANDARD
END:VTIMEZONE
BEGIN:VEVENT
DTSTART;TZID=America/Vancouver:20260106T173000
DTEND;TZID=America/Vancouver:20260106T203000
DTSTAMP:20260424T020545
CREATED:20251220T191514Z
LAST-MODIFIED:20251226T193439Z
UID:10000799-1767720600-1767731400@artsconnect.ing
SUMMARY:Brave Voices: Featuring Steve Miller
DESCRIPTION:For our first show back in January\, we are super excited to welcome our feature poet @stevemillerpoet \nyou can find him on his website www.stevemillerpoet.ca \nThis show is free and open to the public! Come join us for a night of poetry and fun. \nSteve Miller is a spoken word artist\, slam poet\, storyteller\, performer\, workshop creator/facilitator\, singer(kinda)\, musician(barely)\, handyman renaissance person(who identifies as a man-kinda). He has competed on 3 national slam teams\, self published 2 books\, self produced 2 albums\, completed 2 cross Canada tours\, and has performed at campfires\, festivals\, funerals\, weddings\, art shows\, schools\, and even poetry busked on Commercial Drive. He has performed from coast to coast and shared the stage with some of the best spoken word artists in the world.
URL:https://artsconnect.ing/artscalendar/brave-voices-featuring-steve-miller/
LOCATION:Brave Brewing Company\, 2617 Murray Street\, Port Moody\, BC\, V3H 1X1\, Canada
CATEGORIES:Open Mic,Poetry
ATTACH;FMTTYPE=image/webp:https://artsconnect.ing/wp-content/uploads/2025/12/589378076_17935805616108498_3830697797595779262_n.webp
ORGANIZER;CN="Tri Cities Poetry":MAILTO:tricitiespoetry@gmail.com
END:VEVENT
END:VCALENDAR