BEGIN:VCALENDAR
VERSION:2.0
PRODID:-//ArtsConnect - ECPv6.15.20//NONSGML v1.0//EN
CALSCALE:GREGORIAN
METHOD:PUBLISH
X-WR-CALNAME:ArtsConnect
X-ORIGINAL-URL:https://artsconnect.ing
X-WR-CALDESC:Events for ArtsConnect
REFRESH-INTERVAL;VALUE=DURATION:PT1H
X-Robots-Tag:noindex
X-PUBLISHED-TTL:PT1H
BEGIN:VTIMEZONE
TZID:America/Vancouver
BEGIN:DAYLIGHT
TZOFFSETFROM:-0800
TZOFFSETTO:-0700
TZNAME:PDT
DTSTART:20250309T100000
END:DAYLIGHT
BEGIN:STANDARD
TZOFFSETFROM:-0700
TZOFFSETTO:-0800
TZNAME:PST
DTSTART:20251102T090000
END:STANDARD
BEGIN:DAYLIGHT
TZOFFSETFROM:-0800
TZOFFSETTO:-0700
TZNAME:PDT
DTSTART:20260308T100000
END:DAYLIGHT
BEGIN:STANDARD
TZOFFSETFROM:-0700
TZOFFSETTO:-0800
TZNAME:PST
DTSTART:20261101T090000
END:STANDARD
BEGIN:DAYLIGHT
TZOFFSETFROM:-0800
TZOFFSETTO:-0700
TZNAME:PDT
DTSTART:20270314T100000
END:DAYLIGHT
BEGIN:STANDARD
TZOFFSETFROM:-0700
TZOFFSETTO:-0800
TZNAME:PST
DTSTART:20271107T090000
END:STANDARD
END:VTIMEZONE
BEGIN:VEVENT
DTSTART;TZID=America/Vancouver:20260415T180000
DTEND;TZID=America/Vancouver:20260415T203000
DTSTAMP:20260423T192938
CREATED:20260319T163731Z
LAST-MODIFIED:20260319T163731Z
UID:10001191-1776276000-1776285000@artsconnect.ing
SUMMARY:Pasta Bowl Party: Make Your Own Handmade Bowl!
DESCRIPTION:Nothing tastes better than a heaping bowl of pasta served in a bowl you made yourself! \nIn this workshop\, you’ll create your own wide\, open pasta bowl using simple hand-building techniques. Start by shaping your bowl with a mold for the perfect base\, then let your creativity run wild—add fluted edges\, playful patterns\, or even little sculpted characters with silicon molds to give your bowl a unique personality. \nChoose a theme—nature\, animals\, or something completely wacky—and decorate with textures\, colors\, and designs that reflect your style. By the end\, you’ll have a functional\, one-of-a-kind ceramic bowl ready to impress friends\, family\, or just make your mealtime extra special! Due to the kiln-firing process\, finished mugs will be ready for pickup approximately 3–4 weeks after the workshop. \nAbout the Instructor\nAndra Galbin Pristavu is a ceramics and sculpture artist currently studying Visual Arts and Biology at Simon Fraser University. Their artistic practice involves functional decorative pottery as well as multimedia sculpture and installation that explores the connection between the body\, mind\, and its surroundings. Andra has been taking ceramics classes with PoMoArts since 2018 and joined their team in 2021 as part of the Canada Summer Jobs program to help young artists find their passion. Their involvement with ceramics started with one great teacher showing them the ropes\, and they hope to be that one great teacher for the many more students they teach. \nFollow Andra on social media: @andras_arts
URL:https://artsconnect.ing/artscalendar/pasta-bowl-party-make-your-own-handmade-bowl/
LOCATION:PoMoArts\, 2425 St. Johns Street\, Port Moody\, BC\, V3H 2B2\, Canada
CATEGORIES:Pottery
ATTACH;FMTTYPE=image/jpeg:https://artsconnect.ing/wp-content/uploads/2026/03/6968392f9b4ff022626edb81_3.jpg
ORGANIZER;CN="PoMoArts":MAILTO:info@pomoarts.ca
END:VEVENT
END:VCALENDAR