BEGIN:VCALENDAR
VERSION:2.0
PRODID:-//ArtsConnect - ECPv6.15.20//NONSGML v1.0//EN
CALSCALE:GREGORIAN
METHOD:PUBLISH
X-WR-CALNAME:ArtsConnect
X-ORIGINAL-URL:https://artsconnect.ing
X-WR-CALDESC:Events for ArtsConnect
REFRESH-INTERVAL;VALUE=DURATION:PT1H
X-Robots-Tag:noindex
X-PUBLISHED-TTL:PT1H
BEGIN:VTIMEZONE
TZID:America/Vancouver
BEGIN:DAYLIGHT
TZOFFSETFROM:-0800
TZOFFSETTO:-0700
TZNAME:PDT
DTSTART:20240310T100000
END:DAYLIGHT
BEGIN:STANDARD
TZOFFSETFROM:-0700
TZOFFSETTO:-0800
TZNAME:PST
DTSTART:20241103T090000
END:STANDARD
BEGIN:DAYLIGHT
TZOFFSETFROM:-0800
TZOFFSETTO:-0700
TZNAME:PDT
DTSTART:20250309T100000
END:DAYLIGHT
BEGIN:STANDARD
TZOFFSETFROM:-0700
TZOFFSETTO:-0800
TZNAME:PST
DTSTART:20251102T090000
END:STANDARD
BEGIN:DAYLIGHT
TZOFFSETFROM:-0800
TZOFFSETTO:-0700
TZNAME:PDT
DTSTART:20260308T100000
END:DAYLIGHT
BEGIN:STANDARD
TZOFFSETFROM:-0700
TZOFFSETTO:-0800
TZNAME:PST
DTSTART:20261101T090000
END:STANDARD
END:VTIMEZONE
BEGIN:VEVENT
DTSTART;TZID=America/Vancouver:20251022T160000
DTEND;TZID=America/Vancouver:20251022T160000
DTSTAMP:20260423T142716
CREATED:20251004T170428Z
LAST-MODIFIED:20251009T184818Z
UID:10000565-1761148800-1761148800@artsconnect.ing
SUMMARY:City of Port Moody: Street Banner: Deadline
DESCRIPTION:Your artwork could be on a Port Moody street banner – you’re invited to submit your banner designs by 4pm\, October 10! This year’s theme is the Burrard Inlet – sea life\, marine birds\, mythical creatures\, aquatic life\, or buried treasure. If your design is selected\, you’ll paint your banner at the Community Banner Painting Festival in January 2026. Finished banners will be showcased in the Civic Centre Galleria and then installed on Port Moody streets and in Pioneer Memorial Park. Learn more and get the application form at portmoody.ca/streetarts.
URL:https://artsconnect.ing/artscalendar/city-of-port-moody-street-banner-deadline/
LOCATION:City of Port Moody\, Port Moody\, BC\, Canada
CATEGORIES:Public Art,Visual Arts
ATTACH;FMTTYPE=image/webp:https://artsconnect.ing/wp-content/uploads/2025/10/558874649_1394603699338621_1872317618205723137_n.webp
END:VEVENT
BEGIN:VEVENT
DTSTART;TZID=America/Vancouver:20251005T140000
DTEND;TZID=America/Vancouver:20251005T150000
DTSTAMP:20260423T142716
CREATED:20250713T165041Z
LAST-MODIFIED:20250713T165041Z
UID:10000275-1759672800-1759676400@artsconnect.ing
SUMMARY:Guided Public Art Tour: Maillardville\, City of Coquitlam
DESCRIPTION:Experience Coquitlam’s creativity with a guided public art tour. Explore unique murals and sculptures throughout the community and discover the stories behind them. Starting near the clock tower on Brunette Avenue (near the intersection of Brunette Avenue and Lougheed Highway)\, eastbound along Brunette Avenue\, through Mackin Park\, and finishing at Place des Arts (1120 Brunette Avenue)\, the tour showcases the role that civic art plays in enhancing Coquitlam’s public spaces. The route is approximately 1.5 km long and relatively flat. Wear comfortable walking shoes and dress for the weather. This tour will take place rain or shine. \nCity of Coquitlam Public Art
URL:https://artsconnect.ing/artscalendar/guided-public-art-tour-maillardville-city-of-coquitlam/
LOCATION:Near the clock tower on Brunette Avenue\, 928 Brunette Avenue\, Coquitlam\, BC\, Canada
CATEGORIES:Public Art,Walking Tour
ATTACH;FMTTYPE=image/webp:https://artsconnect.ing/wp-content/uploads/2025/07/opus-finished-3.webp
END:VEVENT
BEGIN:VEVENT
DTSTART;TZID=America/Vancouver:20251005T130000
DTEND;TZID=America/Vancouver:20251005T140000
DTSTAMP:20260423T142716
CREATED:20250713T164730Z
LAST-MODIFIED:20250713T164730Z
UID:10000274-1759669200-1759672800@artsconnect.ing
SUMMARY:Mandarin Language Guided Public Art Tour: Maillardville\, City of Coquitlam
DESCRIPTION:Experience Coquitlam’s creativity with a guided public art tour. Explore unique murals and sculptures throughout the community and discover the stories behind them. Starting near the clock tower on Brunette Avenue (near the intersection of Brunette Avenue and Lougheed Highway)\, eastbound along Brunette Avenue\, through Mackin Park\, and finishing at Place des Arts (1120 Brunette Avenue)\, the tour showcases the role that civic art plays in enhancing Coquitlam’s public spaces. \nThe route is approximately 1.5 km long and relatively flat. Wear comfortable walking shoes and dress for the weather. This tour will take place rain or shine. \nCity of Coquitlam Public Art
URL:https://artsconnect.ing/artscalendar/mandarin-language-guided-public-art-tour-maillardville-city-of-coquitlam/
LOCATION:Near the clock tower on Brunette Avenue\, 928 Brunette Avenue\, Coquitlam\, BC\, Canada
CATEGORIES:Public Art,Walking Tour
ATTACH;FMTTYPE=image/webp:https://artsconnect.ing/wp-content/uploads/2025/07/opus-finished-3.webp
END:VEVENT
BEGIN:VEVENT
DTSTART;TZID=America/Vancouver:20250928T130000
DTEND;TZID=America/Vancouver:20250928T140000
DTSTAMP:20260423T142716
CREATED:20250713T165812Z
LAST-MODIFIED:20250801T170330Z
UID:10000276-1759064400-1759068000@artsconnect.ing
SUMMARY:Port Moody Public Art Walking Tour: The Necklace Project
DESCRIPTION:The City of Port Moody invites you on an accessible walking tour of Illuminations\, a series of 5 works installed in Moody Centre by artist Blake William. The tour will begin at the Port Moody Station Museum and end at 2317 Clarke Street (across from Gabi & Jules). The tour will be led by Blake William. \nRegister by Sep 28.
URL:https://artsconnect.ing/artscalendar/port-moody-public-art-walking-tour-illuminations-series/
LOCATION:POMO Museum\, 2734 Murray Street\, Port Moody\, BC\, V3H 1X2\, Canada
CATEGORIES:Public Art,Walking Tour
ATTACH;FMTTYPE=image/webp:https://artsconnect.ing/wp-content/uploads/2025/07/illuminations-03.webp
END:VEVENT
BEGIN:VEVENT
DTSTART;TZID=America/Vancouver:20250927T160000
DTEND;TZID=America/Vancouver:20250927T170000
DTSTAMP:20260423T142716
CREATED:20250713T171516Z
LAST-MODIFIED:20250713T171516Z
UID:10000279-1758988800-1758992400@artsconnect.ing
SUMMARY:Farsi Language Guided Public Art Tour\, City Centre\, City of Coquitlam
DESCRIPTION:Experience Coquitlam’s creativity with a guided public art tour in Farsi. Explore unique murals and sculptures throughout the community and discover the stories behind them. Starting at Lincoln Station (1140 Pinetree Way)\, along SkyTrain’s Millennium Line\, and finishing at Town Centre Park Community Centre (1207 Pinetree Way)\, the tour showcases the role that civic art plays in enhancing Coquitlam’s public spaces. \nThe route is approximately 1.5 km long and relatively flat. Wear comfortable walking shoes and dress for the weather. This tour will take place rain or shine. \nCity of Coquitlam Public Art
URL:https://artsconnect.ing/artscalendar/farsi-language-guided-public-art-tour-city-centre-city-of-coquitlam/
LOCATION:Lincoln Sky Train Station (outside fare gates)\, 1140 Pinetree Way\, Coquitlam\, BC\, Canada
CATEGORIES:Public Art,Walking Tour
ATTACH;FMTTYPE=image/webp:https://artsconnect.ing/wp-content/uploads/2025/07/paperback-dream-1.webp
END:VEVENT
BEGIN:VEVENT
DTSTART;TZID=America/Vancouver:20250927T160000
DTEND;TZID=America/Vancouver:20250927T170000
DTSTAMP:20260423T142716
CREATED:20250713T164350Z
LAST-MODIFIED:20250713T164350Z
UID:10000273-1758988800-1758992400@artsconnect.ing
SUMMARY:Farsi Language Guided Public Art Tour\, Maillardville\, City of Coquitlam
DESCRIPTION:Experience Coquitlam’s creativity with a guided public art tour in Farsi. Explore unique murals and sculptures throughout the community and discover the stories behind them. Starting near the clock tower on Brunette Avenue (near the intersection of Brunette Avenue and Lougheed Highway)\, eastbound along Brunette Avenue\, through Mackin Park\, and finishing at Place des Arts (1120 Brunette Avenue)\, the tour showcases the role that civic art plays in enhancing Coquitlam’s public spaces. \nThe route is approximately 1.5 km long and relatively flat. Wear comfortable walking shoes and dress for the weather. This tour will take place rain or shine. \nCity of Coquitlam Public Art
URL:https://artsconnect.ing/artscalendar/farsi-language-guided-public-art-tour-maillardville-city-of-coquitlam/
LOCATION:Near the clock tower on Brunette Avenue\, 928 Brunette Avenue\, Coquitlam\, BC\, Canada
CATEGORIES:Public Art,Walking Tour
ATTACH;FMTTYPE=image/webp:https://artsconnect.ing/wp-content/uploads/2025/07/opus-finished-3.webp
END:VEVENT
BEGIN:VEVENT
DTSTART;TZID=America/Vancouver:20250927T140000
DTEND;TZID=America/Vancouver:20250927T150000
DTSTAMP:20260423T142716
CREATED:20250713T172236Z
LAST-MODIFIED:20250713T172236Z
UID:10000281-1758981600-1758985200@artsconnect.ing
SUMMARY:Guided Public Art Tour: City Centre\, City of Coquitlam
DESCRIPTION:Experience Coquitlam’s creativity with a guided public art tour. Explore unique murals and sculptures throughout the community and discover the stories behind them. Starting at Lincoln Station (1140 Pinetree Way)\, along SkyTrain’s Millennium Line\, and finishing at Town Centre Park Community Centre (1207 Pinetree Way)\, the tour showcases the role that civic art plays in enhancing Coquitlam’s public spaces. \nCity of Coquitlam Public Art
URL:https://artsconnect.ing/artscalendar/guided-public-art-tour-city-centre-city-of-coquitlam/
LOCATION:Lincoln Sky Train Station (outside fare gates)\, 1140 Pinetree Way\, Coquitlam\, BC\, Canada
CATEGORIES:Public Art,Walking Tour
ATTACH;FMTTYPE=image/webp:https://artsconnect.ing/wp-content/uploads/2025/07/paperback-dream-1.webp
END:VEVENT
BEGIN:VEVENT
DTSTART;TZID=America/Vancouver:20250927T130000
DTEND;TZID=America/Vancouver:20250927T140000
DTSTAMP:20260423T142716
CREATED:20250713T171908Z
LAST-MODIFIED:20250713T171908Z
UID:10000280-1758978000-1758981600@artsconnect.ing
SUMMARY:Mandarin Language Guided Public Art Tour\, City Centre\, City of Coquitlam
DESCRIPTION:Experience Coquitlam’s creativity with a guided public art tour in Mandarin. Explore unique murals and sculptures throughout the community and discover the stories behind them. Starting at Lincoln Station (1140 Pinetree Way)\, along SkyTrain’s Millennium Line\, and finishing at Town Centre Park Community Centre (1207 Pinetree Way)\, the tour showcases the role that civic art plays in enhancing Coquitlam’s public spaces. \nThe route is approximately 1.5 km long and relatively flat. Wear comfortable walking shoes and dress for the weather. This tour will take place rain or shine. \nCity of Coquitlam Public Art
URL:https://artsconnect.ing/artscalendar/mandarin-language-guided-public-art-tour-city-centre-city-of-coquitlam/
LOCATION:Lincoln Sky Train Station (outside fare gates)\, 1140 Pinetree Way\, Coquitlam\, BC\, Canada
CATEGORIES:Public Art,Walking Tour
ATTACH;FMTTYPE=image/webp:https://artsconnect.ing/wp-content/uploads/2025/07/paperback-dream-1.webp
END:VEVENT
BEGIN:VEVENT
DTSTART;TZID=America/Vancouver:20250626T183000
DTEND;TZID=America/Vancouver:20250626T200000
DTSTAMP:20260423T142716
CREATED:20250613T222900Z
LAST-MODIFIED:20250613T222900Z
UID:10000127-1750962600-1750968000@artsconnect.ing
SUMMARY:Queer Visions: The limitless potential of art
DESCRIPTION:This panel features artists from our local 2SLGBTQIA+ communities sharing how their various art forms are vehicles of self expression\, resistance to oppressive structures and norms\, and forging broader and deeper connections to community.
URL:https://artsconnect.ing/artscalendar/queer-visions-the-limitless-potential-of-art/
LOCATION:Coquitlam Public Library – The City Centre Branch\, 1169 Pinetree Way\, Coquitlam\, BC\, V3B 0Y1\, Canada
CATEGORIES:Public Art
ATTACH;FMTTYPE=image/jpeg:https://artsconnect.ing/wp-content/uploads/2025/06/504285209_9908285119291445_6063166641992624909_n.jpg
ORGANIZER;CN="Coquitlam Public Library - The City Centre Branch":MAILTO:https://www.coqlibrary.ca/about-us/contact-us
END:VEVENT
BEGIN:VEVENT
DTSTART;TZID=America/Vancouver:20250614T140000
DTEND;TZID=America/Vancouver:20250614T140000
DTSTAMP:20260423T142716
CREATED:20250605T170131Z
LAST-MODIFIED:20250605T170232Z
UID:10000102-1749909600-1749909600@artsconnect.ing
SUMMARY:Public Art in Public Space Public Talk with Jordan Strom
DESCRIPTION:On Saturday 14 June 2025\, ArtsConnect presents a free public talk on public art by Curator Jordan Strom at Inlet United Church at the Springs in Port Moody. For “Infinity in a Footprint\, Kalpas in the Sand\, Blessings in a Mudflower: Memory\, Myth\, and Time-Travel in the Post-Suburb\,” Strom will examine several artworks that deploy science fiction\, ficto-historical interventions\, and myth to examine the present within the post-suburbs of Metro Vancouver. Taking its title from a text-artwork by Lakshmi Gill\, the presentation will discuss works by Jim Adams\, Manjot Kaur\, Mark Soo\, Kevin Schmidt\, Roxanne Charles\, Charles Campbell\, Cindy Mochizuki\, Phyllis Atkins\, James Nizam and Diane Roy. While situating these practices within a longer arc of late twentieth century art\, Strom will also respond to several recent urban theories of suburbs/edge cities and the need to reimagine their relevance in the twenty-first century. \nJordan Strom is Curator of Exhibitions and Collections at Surrey Art Gallery. Current and recent projected include “Annie Briard: Refracted Fields” (2025)\, “Charles Campbell: An Ocean to Livity” (2023)\, and “Cindy Mochizuki: Autumn Strawberry” (2022). Jordan has a MA in Critical and Curatorial Studies from the University of British Columbia. He is currently a PhD student at Simon Fraser University’s School for the Contemporary Arts/Individualized Interdisciplinary Studies\, where he is working on a book and exhibition related to Vancouver’s 1986 world’s fair and Canadian art that will take place in 2026. \nThis talk is presented as part of ArtsConnect’s “Public Walks\, Public Spaces\, Public Arts\, Public Cities” program. The program includes a series of related discussions on the role and nature of public art in the Tri-Cities lead by a diverse collection of people in all forms of art\, architecture\, urban planning focussing on questions from just what is it that makes a space public to what place does public art have in public conversations about the complex nature of a community’s public life? Previous presentations have included talks by Dr. Tatiana Mellema in Port Coquitlam in April 2025 and Tasha Faye Evans in Coquitlam in May 2025. \nArtsConnect gratefully acknowledges the support of the PoCo Foundation and the City of Port Coquitlam Community Cultural Development (CCD) Investment Program\, the Village of Anmore and the City of Port Moody.
URL:https://artsconnect.ing/artscalendar/public-art-in-public-space-public-talk-with-jordan-strom/
LOCATION:Inlet United Church at the Springs\, 2315 Spring Street\, Port Moody\, BC\, V3H 0L7\, Canada
CATEGORIES:Public Art
ATTACH;FMTTYPE=image/jpeg:https://artsconnect.ing/wp-content/uploads/2025/06/504341275_122218013732160064_7268387952160661673_n.jpg
ORGANIZER;CN="ArtsConnect":MAILTO:info@artsconnect.ing
END:VEVENT
BEGIN:VEVENT
DTSTART;TZID=America/Vancouver:20250531T000000
DTEND;TZID=America/Vancouver:20250531T235959
DTSTAMP:20260423T142716
CREATED:20250516T170856Z
LAST-MODIFIED:20250516T170856Z
UID:10000081-1748649600-1748735999@artsconnect.ing
SUMMARY:2025 Tri-Cities Pride Festival - Arts Grant Deadline
DESCRIPTION:Are you a queer identifying artist who lives in Port Coquitlam? \nThe Tri-Cities Pride Society (TCPS) applied for grant funding from the PoCo Community Foundation’s Project Grants to create an arts-based project to lift up voices from the 2S/LGBTQIA+ community. The project is in two parts: first\, a collaborative community art project\, and second\, an exhibition of local queer artists. The Tri-Cities Pride Society is doing a call out to local queer artists for the exhibition. A selection of artists will be chosen to create an art piece; ” What Does Pride Mean to You? ” which will be exhibited throughout the 2025 July weekend event. \nApply in the contact form. > Link : https://tricitiespride.ca/festival/
URL:https://artsconnect.ing/artscalendar/2025-tri-cities-pride-festival-arts-grant-deadline/
LOCATION:City of Port Coquitlam\, Port Coquitlam\, BC\, Canada
CATEGORIES:Public Art,Visual Arts
ATTACH;FMTTYPE=image/jpeg:https://artsconnect.ing/wp-content/uploads/2025/05/497460670_720417833881404_9078020725773104527_n.jpg
ORGANIZER;CN="Tri-Cities Pride Society":MAILTO:info@tricitiespride.ca
END:VEVENT
BEGIN:VEVENT
DTSTART;TZID=America/Vancouver:20250520T190000
DTEND;TZID=America/Vancouver:20250520T210000
DTSTAMP:20260423T142716
CREATED:20250513T145026Z
LAST-MODIFIED:20250513T145301Z
UID:10000080-1747767600-1747774800@artsconnect.ing
SUMMARY:Public Art in Public Space Public Talk with Tasha Faye Evans - "Presence of Ancestors: Transforming Community through Art"
DESCRIPTION:On Tuesday 20 May 2025 at 7:00pm ArtsConnect presents In the Presence of Ancestors: Transforming Community through Art at the City Centre Branch of the Coquitlam Public Library. In this free public talk\, Tasha Faye Evans will share her journey bringing Truth and Reconciliation to the Tri-Cities with her project\, In the Presence of Ancestors. From being just an idea to the installation of the first of five house posts raised along Port Moody’s Shoreline Trail\, Tasha will share her insights about the transformational power of Coast Salish art and culture. \nTasha Faye Evans is an artist and educator inspiring change through Coast Salish art and culture. Her body of work is an intersection of artistic practice\, culture\, and education woven into dance and theatre performances\, city-wide cultural reclamation projects\, and innovative curriculum. Her current projects include Cedar Woman\, a dance honouring a legacy of Coast Salish women spanning all the way back to a tree\, and In the Presence of Ancestors\, a life-long exhibition of five Coast Salish House posts being carved and raised in Port Moody. With decades of creation and production\, Tasha has participated in performances and festivals nationally and internationally. Find more information about Tasha’s work here: https://tashafayeevans.com/ \nThis talk is presented as part of ArtsConnect’s Public Walks\, Public Spaces\, Public Arts\, Public Cities program. The program includes a series series of related discussions on the role and nature of public art in the Tri-Cities lead by a diverse collection of people in all forms of art\, architecture\, urban planning focussing on questions from just what is it that makes a space public to what place does public art have in public conversations about the complex nature of a community’s public life? On 3 May 2025 ArtsConnect presented a series of Jane’s Walks in Coquitlam (led by Markus Fahrner)\, in Port Moody (led by Bita Jamalpour) and in Port Coquitlam (led by Ed Hall). \nArtsConnect gratefully acknowledges the support of the PoCo Foundation and the City of Port Coquitlam Community Cultural Development (CCD) Investment Program and the Village of Anmore.
URL:https://artsconnect.ing/artscalendar/public-art-in-public-space-public-talk-with-tasha-faye-evans-presence-of-ancestors-transforming-community-through-art/
LOCATION:Coquitlam Public Library – The City Centre Branch\, 1169 Pinetree Way\, Coquitlam\, BC\, V3B 0Y1\, Canada
CATEGORIES:Public Art
ATTACH;FMTTYPE=image/jpeg:https://artsconnect.ing/wp-content/uploads/2025/05/497691851_122214515096160064_2134033703398707367_n.jpg
ORGANIZER;CN="ArtsConnect":MAILTO:info@artsconnect.ing
END:VEVENT
BEGIN:VEVENT
DTSTART;TZID=America/Vancouver:20250508T000000
DTEND;TZID=America/Vancouver:20250508T235959
DTSTAMP:20260423T142716
CREATED:20250401T225915Z
LAST-MODIFIED:20250427T175844Z
UID:10000032-1746662400-1746748799@artsconnect.ing
SUMMARY:Call for Art Mural in Port Moody
DESCRIPTION:Call for Art Mural in Port Moody. Deadline May 8th. Paying gig. \nRotary PoMo Skatepark Mural \nThe City of Port Moody invites artists or artist-led teams (to a maximum of 3 artists) who identify as First Nations\, LGTBQ2S+ to submit an expression of interest to create a public art mural for the Rotary PoMo Skatepark with youth from the community. Artists with demonstrated experience working with youth will be given priority. \nTheme\nNatural World of the West Coast: Rocky Point Park is Port Moody’s flagship park and a popular destination to enjoy the Burrard Inlet. The natural environment of the park and Inlet home to a variety of flora\, fauna and wildlife. \nProcess overview\nCall for qualifications: Artists interested in this opportunity should carefully review the guidelines outlined in this Call for Qualifications. Ensure you understand all requirements\, deadlines\, and specific criteria related to the application. \nSelection jury review: A selection jury will assess the submitted qualifications and shortlist up to three artists or artist teams.\nDesign presentation: The shortlisted artists or teams will be invited to present their portfolio and their approach to collaborating with youth.\nFinal selection: The jury will select the final artist and design to proceed with the project. \nTo apply\, submit your qualifications and required materials as a single PDF document (5MB) by the deadline. Label your PDF with your name or team name and email it to communityartscoordinator@portmoody.ca with the subject line “Rotary PoMo Skatepark Mural 2025. All submissions must be received by 4pm on Thursday May 8\, 2025.
URL:https://artsconnect.ing/artscalendar/call-for-art-mural-in-port-moody/
LOCATION:City of Port Moody\, Port Moody\, BC\, Canada
CATEGORIES:Public Art,Visual Arts
ATTACH;FMTTYPE=image/jpeg:https://artsconnect.ing/wp-content/uploads/2025/04/banner-publicartmural-sm.jpg
END:VEVENT
BEGIN:VEVENT
DTSTART;TZID=America/Vancouver:20250405T130000
DTEND;TZID=America/Vancouver:20250405T140000
DTSTAMP:20260423T142716
CREATED:20250329T004932Z
LAST-MODIFIED:20250330T220714Z
UID:10000028-1743858000-1743861600@artsconnect.ing
SUMMARY:Public Art in Public Space Public Talk with Dr. Tatiana Mellema
DESCRIPTION:In this informative and free public talk\, Dr. Tatiana Mellema will discuss the important relationships that exist between art and public space. The discussion will also introduce the various processes by which public art finds its way into the public landscapes of our cities with specific reference to the role that municipalities play. Dr. Mellema will also consider the dominance of private development in public art programs today and the role that art plays in the increasing financialization and privatization of public space. \nDr. Tatiana Mellema is Curator of Outdoor Art at the Morris and Helen Belkin Art Gallery and holds a PhD in Art History from the University of British Columbia. Through her former position in Public Art at the City of Vancouver she realised major public art commissions such as “Weekend Chime” (2021) by Brady Cranfield\, “A Constellation of Remediation” (2021) by T’uy’t’tanat-Cease Wyss and Anne Riley\, and “Saltwater City Vancouver/鹹水埠温哥华” (2020) by Paul Wong. In addition to working in public art\, Mellema is a sessional Lecturer at Emily Carr University of Art + Design and has previously worked in curatorial and educational programming at the Vancouver Art Gallery\, Illingworth Kerr Gallery\, The Banff Centre\, The Power Plant\, and the National Gallery of Canada. \nThis talk is presented as part of ArtsConnect’s Public Walks\, Public Spaces\, Public Arts\, Public Cities program. The program includes a series series of related discussions on the role and nature of public art in the Tri-Cities lead by a diverse collection of people in all forms of art\, architecture\, urban planning focussing on questions from just what is it that makes a space public to what place does public art have in public conversations about the complex nature of a community’s public life? Our next program includes Jane’s Walks that will take place on 3 May 2025 in Port Coquitlam\, Coquitlam and Port Moody. \nArtsConnect gratefully acknowledges the support of the City of Port Coquitlam Community Cultural Development (CCD) Investment Program and the Village of Anmore.
URL:https://artsconnect.ing/artscalendar/public-art-in-public-space-public-talk-with-dr-tatiana-mellema/
LOCATION:Michael Wright Art Gallery\, 200-2253 Leigh Square\, Port Coquitlam\, BC\, V3C 3B8\, Canada
CATEGORIES:Public Art
ATTACH;FMTTYPE=image/webp:https://artsconnect.ing/wp-content/uploads/2025/03/ARTSCONNECT_PUBLIC_ART_TALK_01.webp
ORGANIZER;CN="ArtsConnect":MAILTO:info@artsconnect.ing
END:VEVENT
BEGIN:VEVENT
DTSTART;TZID=America/Vancouver:20250404T180000
DTEND;TZID=America/Vancouver:20250404T210000
DTSTAMP:20260423T142716
CREATED:20250401T175954Z
LAST-MODIFIED:20250401T175954Z
UID:10000031-1743789600-1743800400@artsconnect.ing
SUMMARY:Leigh Square Grand Reopening
DESCRIPTION:Join us Friday\, April 4 from 6-9pm for the grand reopening of the transformed Leigh Square — a cornerstone of our downtown revitalization project! \nThe grand re-opening celebration will include:\n Live music from Ashley Pater Food trucks: Big Red’s Poutine and Gordo’s Concession Ribbon-cutting ceremony at 8:30pm See the interactive water feature that will integrate lights and music Family-friendly activities: Art activities at the Michael Wright Art Gallery and family felting workshop in the Outlet workroom (7-9pm). Attendees can move through The Outlet\, Gathering Place\, and Heritage Museum throughout the event.
URL:https://artsconnect.ing/artscalendar/leigh-square-grand-reopening/
LOCATION:Leigh Square\, 2253 Leigh Square Pl\, Port Coquitlam\, BC\, V3C 3B8\, Canada
CATEGORIES:Music,Public Art,Visual Arts
ATTACH;FMTTYPE=image/jpeg:https://artsconnect.ing/wp-content/uploads/2025/04/484830606_1058828999613903_9022462026190868154_n.jpg
ORGANIZER;CN="City of Port Coquitlam":MAILTO:info@portcoquitlam.ca
END:VEVENT
END:VCALENDAR