BEGIN:VCALENDAR
VERSION:2.0
PRODID:-//ArtsConnect - ECPv6.15.20//NONSGML v1.0//EN
CALSCALE:GREGORIAN
METHOD:PUBLISH
X-ORIGINAL-URL:https://artsconnect.ing
X-WR-CALDESC:Events for ArtsConnect
REFRESH-INTERVAL;VALUE=DURATION:PT1H
X-Robots-Tag:noindex
X-PUBLISHED-TTL:PT1H
BEGIN:VTIMEZONE
TZID:America/Vancouver
BEGIN:DAYLIGHT
TZOFFSETFROM:-0800
TZOFFSETTO:-0700
TZNAME:PDT
DTSTART:20240310T100000
END:DAYLIGHT
BEGIN:STANDARD
TZOFFSETFROM:-0700
TZOFFSETTO:-0800
TZNAME:PST
DTSTART:20241103T090000
END:STANDARD
BEGIN:DAYLIGHT
TZOFFSETFROM:-0800
TZOFFSETTO:-0700
TZNAME:PDT
DTSTART:20250309T100000
END:DAYLIGHT
BEGIN:STANDARD
TZOFFSETFROM:-0700
TZOFFSETTO:-0800
TZNAME:PST
DTSTART:20251102T090000
END:STANDARD
BEGIN:DAYLIGHT
TZOFFSETFROM:-0800
TZOFFSETTO:-0700
TZNAME:PDT
DTSTART:20260308T100000
END:DAYLIGHT
BEGIN:STANDARD
TZOFFSETFROM:-0700
TZOFFSETTO:-0800
TZNAME:PST
DTSTART:20261101T090000
END:STANDARD
END:VTIMEZONE
BEGIN:VEVENT
DTSTART;TZID=America/Vancouver:20251010T180000
DTEND;TZID=America/Vancouver:20251010T200000
DTSTAMP:20260424T184948
CREATED:20250907T205432Z
LAST-MODIFIED:20250907T205432Z
UID:10000478-1760119200-1760126400@artsconnect.ing
SUMMARY:Diwali in Coquitlam
DESCRIPTION:Join us on October 10 at the Evergreen Cultural Centre to celebrate Diwali! Presented alongside with Diwali Fest\, this celebration will feature activities for kids\, snacks and drinks\, vendors\, a henna station\, and performances inside the Evergreen theatre. \nDiwali is a South Asian religious festival focused on light and triumph of good over evil. Having historical origins dating back thousands of years\, this celebration is an important cultural practice for many Hindus and Sikhs in Coquitlam\, making it a part of our city’s diverse heritage. \nFriday\, October 10th – 6:00 PM – 8:00 PM \nFree. Registration required to access theatre performances\, but no registration required for other activities. \nEvergreen Cultural Centre – 1205 Pinetree Way\, Coquitlam. \n\n\n\n\n\nRegistration for performances
URL:https://artsconnect.ing/artscalendar/diwali-in-coquitlam/
LOCATION:Evergreen Cultural Centre\, 1205 Pinetree Way\, Coquitlam\, BC\, V3B 7Z4\, Canada
CATEGORIES:Arts and Crafts,Festival,Vendor Market
ATTACH;FMTTYPE=image/webp:https://artsconnect.ing/wp-content/uploads/2025/09/diwali-in-coquitlam-fb-event.webp
ORGANIZER;CN="Coquitlam Heritage":MAILTO:info@coquitlamheritage.ca
END:VEVENT
END:VCALENDAR