BEGIN:VCALENDAR
VERSION:2.0
PRODID:-//ArtsConnect - ECPv6.15.20//NONSGML v1.0//EN
CALSCALE:GREGORIAN
METHOD:PUBLISH
X-ORIGINAL-URL:https://artsconnect.ing
X-WR-CALDESC:Events for ArtsConnect
REFRESH-INTERVAL;VALUE=DURATION:PT1H
X-Robots-Tag:noindex
X-PUBLISHED-TTL:PT1H
BEGIN:VTIMEZONE
TZID:America/Vancouver
BEGIN:DAYLIGHT
TZOFFSETFROM:-0800
TZOFFSETTO:-0700
TZNAME:PDT
DTSTART:20240310T100000
END:DAYLIGHT
BEGIN:STANDARD
TZOFFSETFROM:-0700
TZOFFSETTO:-0800
TZNAME:PST
DTSTART:20241103T090000
END:STANDARD
BEGIN:DAYLIGHT
TZOFFSETFROM:-0800
TZOFFSETTO:-0700
TZNAME:PDT
DTSTART:20250309T100000
END:DAYLIGHT
BEGIN:STANDARD
TZOFFSETFROM:-0700
TZOFFSETTO:-0800
TZNAME:PST
DTSTART:20251102T090000
END:STANDARD
BEGIN:DAYLIGHT
TZOFFSETFROM:-0800
TZOFFSETTO:-0700
TZNAME:PDT
DTSTART:20260308T100000
END:DAYLIGHT
BEGIN:STANDARD
TZOFFSETFROM:-0700
TZOFFSETTO:-0800
TZNAME:PST
DTSTART:20261101T090000
END:STANDARD
END:VTIMEZONE
BEGIN:VEVENT
DTSTART;TZID=America/Vancouver:20250503T110000
DTEND;TZID=America/Vancouver:20250503T120000
DTSTAMP:20260425T085857
CREATED:20250430T170652Z
LAST-MODIFIED:20250430T172539Z
UID:10000066-1746270000-1746273600@artsconnect.ing
SUMMARY:Jane's Walk Coquitlam
DESCRIPTION:Just what is it that makes a city the city that it is? What goes into what goes on in the streets and parks and paths that wind through the places that we live? What works? What doesn’t? What would you change? Why would you change it? What is it about the places we live and the spaces that we share that calls community together? Join curator\, historian and designer Markus Fahrner for an informative and engaging walk and conversation about the people and places and spaces and stories in Coquitlam’s Maillardville for a Jane’s Walk on Saturday 3 May 2025 from 11:00am to about noon. We will meet at the SW corner of Brunette and King Edward in Coquitlam. \nEach year Jane’s Walks take place in over 500 cities throughout the world. Starting in 2025\, ArtsConnect has signed on to organize Jane’s Walks in neighbourhoods across the Tri-Cities. These walking conversations about how we make the cities in which we live and work and play are inspired by Jane Jacobs (1916-2006) a writer\, urbanist and activist who championed a community-based approach to city-building. She had no formal training as a planner\, and yet her 1961 book\, “The Death and Life of Great American Cities\,” introduced important ideas about how cities function\, evolve\, and even how they fail. Jacobs lived in Greenwich Village until 1968 when she moved to Toronto. In both cities\, she helped derail the car-centred approach to urban planning and invigorated neighbourhood and community activism. Her activism and many writings continue to engage many of today’s architects\, planners\, policymakers\, activists\, citizens\, and other city builders. \nJane’s Walks in the Tri-Cities take place on the ancestral and unceded territories of the kʷikʷəƛ̓əm which lies within the shared territories of the səlilwətaɬ\, q̓ic̓əy̓\, xʷməθkʷəy̓əm\, qiqéyt\, Sḵwx̱wú7mesh\, and Sto’:lo.
URL:https://artsconnect.ing/artscalendar/janes-walk-coquitlam/
LOCATION:SW Corner of Brunette and King Edward in Coquitlam\, SW corner of Brunette and King Edward in Coquitlam\, Coquitlam\, BC\, Canada
CATEGORIES:Walking Tour
ATTACH;FMTTYPE=image/jpeg:https://artsconnect.ing/wp-content/uploads/2025/04/494195138_122212273370160064_2317715529560109559_n.jpg
ORGANIZER;CN="ArtsConnect":MAILTO:info@artsconnect.ing
END:VEVENT
BEGIN:VEVENT
DTSTART;TZID=America/Vancouver:20250503T130000
DTEND;TZID=America/Vancouver:20250503T140000
DTSTAMP:20260425T085857
CREATED:20250430T171717Z
LAST-MODIFIED:20250430T173703Z
UID:10000067-1746277200-1746280800@artsconnect.ing
SUMMARY:Jane's Walk Port Moody
DESCRIPTION:Just what is it that makes a city the city that it is? What goes into what goes on in the streets and parks and paths that wind through the places that we live? What works? What doesn’t? What would you change? Why would you change it? What is it about the places we live and the spaces that we share that calls community together? Join urban planner Bit Jamalpour for an informative and engaging walk and conversation about the people and places and spaces and stories in Port Moody’s downtown for a Jane’s Walk on Saturday 3 May 2025 from 1:00pm to about 2:00pm. We will meet at the Kyle Centre parking lot at 125 Kyle Street. \nEach year Jane’s Walks take place in over 500 cities throughout the world. Starting in 2025\, ArtsConnect has signed on to organize Jane’s Walks in neighbourhoods across the Tri-Cities. These walking conversations about how we make the cities in which we live and work and play are inspired by Jane Jacobs (1916-2006) a writer\, urbanist and activist who championed a community-based approach to city-building. She had no formal training as a planner\, and yet her 1961 book\, “The Death and Life of Great American Cities\,” introduced important ideas about how cities function\, evolve\, and even how they fail. Jacobs lived in Greenwich Village until 1968 when she moved to Toronto. In both cities\, she helped derail the car-centred approach to urban planning and invigorated neighbourhood and community activism. Her activism and many writings continue to engage many of today’s architects\, planners\, policymakers\, activists\, citizens\, and other city builders. \nJane’s Walks take place on the ancestral and unceded territories of the kʷikʷəƛ̓əm which lies within the shared territories of the səlilwətaɬ\, q̓ic̓əy̓\, xʷməθkʷəy̓əm\, qiqéyt\, Sḵwx̱wú7mesh\, and Sto’:lo. \nArtsConnect gratefully acknowledges the support of the City of Port Coquitlam Community Cultural Development (CCD) Investment Program and the Village of Anmore.
URL:https://artsconnect.ing/artscalendar/janes-walk-port-moody/
LOCATION:Kyle Centre Parking Lot\, 125 Kyle Street\, Port Moody\, BC\, V3H 2B2\, Canada
CATEGORIES:Walking Tour
ATTACH;FMTTYPE=image/jpeg:https://artsconnect.ing/wp-content/uploads/2025/04/494209572_122212273754160064_953933538596134559_n.jpg
ORGANIZER;CN="ArtsConnect":MAILTO:info@artsconnect.ing
END:VEVENT
BEGIN:VEVENT
DTSTART;TZID=America/Vancouver:20250503T150000
DTEND;TZID=America/Vancouver:20250503T160000
DTSTAMP:20260425T085857
CREATED:20250430T173509Z
LAST-MODIFIED:20250430T173556Z
UID:10000068-1746284400-1746288000@artsconnect.ing
SUMMARY:Jane's Walk Port Coquitlam
DESCRIPTION:Just what is it that makes a city the city that it is? What goes into what goes on in the streets and parks and paths that wind through the places that we live? What works? What doesn’t? What would you change? Why would you change it? What is it about the places we live and the spaces that we share that calls community together? Join community leader and former Chief of the Kwikwetlem First Nation Ed Hall for an informative and engaging walk and conversation about the people and places and spaces and stories from along the Coquitlam River in Port Coquitlam for a Jane’s Walk on Saturday 3 May 2025 from 3:00pm to about 4:00pm. We will meet at the NW corner of the Lions Park parking lot in Port Coquitlam. \nAt the end of the walk\, make your way to the Port Coquitlam Community Centre at 2150 Wilson Avenue in Port Coquitlam to take in the Art Focus Artists’ Association Spring Art Show 2025 which will be open until 5:00pm on Saturday 3 May. \nEach year Jane’s Walks take place in over 500 cities throughout the world. Starting in 2025\, ArtsConnect has signed on to organize Jane’s Walks in neighbourhoods across the Tri-Cities. These walking conversations about how we make the cities in which we live and work and play are inspired by Jane Jacobs (1916-2006) a writer\, urbanist and activist who championed a community-based approach to city-building. She had no formal training as a planner\, and yet her 1961 book\, “The Death and Life of Great American Cities\,” introduced important ideas about how cities function\, evolve\, and even how they fail. Jacobs lived in Greenwich Village until 1968 when she moved to Toronto. In both cities\, she helped derail the car-centred approach to urban planning and invigorated neighbourhood and community activism. Her activism and many writings continue to engage many of today’s architects\, planners\, policymakers\, activists\, citizens\, and other city builders. \nJane’s Walks take place on the ancestral and unceded territories of the kʷikʷəƛ̓əm which lies within the shared territories of the səlilwətaɬ\, q̓ic̓əy̓\, xʷməθkʷəy̓əm\, qiqéyt\, Sḵwx̱wú7mesh\, and Sto’:lo. \nArtsConnect gratefully acknowledges the support of the City of Port Coquitlam Community Cultural Development (CCD) Investment Program and the Village of Anmore.
URL:https://artsconnect.ing/artscalendar/janes-walk-port-coquitlam/
LOCATION:NW Corner of the Lions Park Parking Lot in Port Coquitlam\, Port Coquitlam\, BC\, Canada
CATEGORIES:Walking Tour
ATTACH;FMTTYPE=image/jpeg:https://artsconnect.ing/wp-content/uploads/2025/04/494210301_122212274384160064_2685732056934669727_n.jpg
ORGANIZER;CN="ArtsConnect":MAILTO:info@artsconnect.ing
END:VEVENT
END:VCALENDAR