BEGIN:VCALENDAR
VERSION:2.0
PRODID:-//ArtsConnect - ECPv6.15.20//NONSGML v1.0//EN
CALSCALE:GREGORIAN
METHOD:PUBLISH
X-ORIGINAL-URL:https://artsconnect.ing
X-WR-CALDESC:Events for ArtsConnect
REFRESH-INTERVAL;VALUE=DURATION:PT1H
X-Robots-Tag:noindex
X-PUBLISHED-TTL:PT1H
BEGIN:VTIMEZONE
TZID:America/Vancouver
BEGIN:DAYLIGHT
TZOFFSETFROM:-0800
TZOFFSETTO:-0700
TZNAME:PDT
DTSTART:20240310T100000
END:DAYLIGHT
BEGIN:STANDARD
TZOFFSETFROM:-0700
TZOFFSETTO:-0800
TZNAME:PST
DTSTART:20241103T090000
END:STANDARD
BEGIN:DAYLIGHT
TZOFFSETFROM:-0800
TZOFFSETTO:-0700
TZNAME:PDT
DTSTART:20250309T100000
END:DAYLIGHT
BEGIN:STANDARD
TZOFFSETFROM:-0700
TZOFFSETTO:-0800
TZNAME:PST
DTSTART:20251102T090000
END:STANDARD
BEGIN:DAYLIGHT
TZOFFSETFROM:-0800
TZOFFSETTO:-0700
TZNAME:PDT
DTSTART:20260308T100000
END:DAYLIGHT
BEGIN:STANDARD
TZOFFSETFROM:-0700
TZOFFSETTO:-0800
TZNAME:PST
DTSTART:20261101T090000
END:STANDARD
END:VTIMEZONE
BEGIN:VEVENT
DTSTART;TZID=America/Vancouver:20250620T160000
DTEND;TZID=America/Vancouver:20250620T210000
DTSTAMP:20260425T073148
CREATED:20250501T170346Z
LAST-MODIFIED:20250501T171329Z
UID:10000069-1750435200-1750453200@artsconnect.ing
SUMMARY:Art Shuffle 2025
DESCRIPTION:Start your summer at The Art Shuffle! Discover the neighbourhood on an evening art walk through Port Moody’s historic Town Centre\, Rocky Point and Brewery Row areas. Explore 24 venues featuring local artists exhibiting in galleries\, studios\, museums and local businesses. Experience interactive art\, hands-on activities and live music. Visit the new indoor artist market at Kyle Centre and the open-air market at Queen Street Plaza. \nWhether you’re a long-time art lover or just looking for a fun night out\, don’t miss this must-attend summer event!
URL:https://artsconnect.ing/artscalendar/art-shuffle-2025/
LOCATION:City of Port Moody\, Port Moody\, BC\, Canada
CATEGORIES:Walking Tour
ATTACH;FMTTYPE=image/png:https://artsconnect.ing/wp-content/uploads/2025/05/de4ef55d-cabc-440f-aa11-b2d000f08e1a.png
ORGANIZER;CN="Art Shuffle":MAILTO:artshuffle18@gmail.com
END:VEVENT
BEGIN:VEVENT
DTSTART;TZID=America/Vancouver:20250628T103000
DTEND;TZID=America/Vancouver:20250628T113000
DTSTAMP:20260425T073148
CREATED:20250623T172027Z
LAST-MODIFIED:20250623T172152Z
UID:10000140-1751106600-1751110200@artsconnect.ing
SUMMARY:Downtown PoCo Walking Tour
DESCRIPTION:Join PoCo Heritage as we take a stroll around historic downtown Port Coquitlam. Learn about the development of our city\, sites of interest\, local stories\, and how things got to be the way they are! \nTour is by donation at the door: suggested amount – $5 \nReserve your spot here: https://www.eventbrite.com/…/downtown-poco-walking-tour…
URL:https://artsconnect.ing/artscalendar/downtown-poco-walking-tour/
LOCATION:PoCo Heritage Museum and Achives\, 2248 McAllister Ave #150\, Port Coquitlam\, BC\, V3C 2A5\, Canada
CATEGORIES:Walking Tour
ATTACH;FMTTYPE=image/jpeg:https://artsconnect.ing/wp-content/uploads/2025/06/499477233_1260477346082506_3755301230892472197_n.jpg
ORGANIZER;CN="PoCo Heritage Museum and Archives":MAILTO:info@pocoheritage.org
END:VEVENT
END:VCALENDAR