BEGIN:VCALENDAR
VERSION:2.0
PRODID:-//ArtsConnect - ECPv6.15.20//NONSGML v1.0//EN
CALSCALE:GREGORIAN
METHOD:PUBLISH
X-WR-CALNAME:ArtsConnect
X-ORIGINAL-URL:https://artsconnect.ing
X-WR-CALDESC:Events for ArtsConnect
REFRESH-INTERVAL;VALUE=DURATION:PT1H
X-Robots-Tag:noindex
X-PUBLISHED-TTL:PT1H
BEGIN:VTIMEZONE
TZID:America/Vancouver
BEGIN:DAYLIGHT
TZOFFSETFROM:-0800
TZOFFSETTO:-0700
TZNAME:PDT
DTSTART:20240310T100000
END:DAYLIGHT
BEGIN:STANDARD
TZOFFSETFROM:-0700
TZOFFSETTO:-0800
TZNAME:PST
DTSTART:20241103T090000
END:STANDARD
BEGIN:DAYLIGHT
TZOFFSETFROM:-0800
TZOFFSETTO:-0700
TZNAME:PDT
DTSTART:20250309T100000
END:DAYLIGHT
BEGIN:STANDARD
TZOFFSETFROM:-0700
TZOFFSETTO:-0800
TZNAME:PST
DTSTART:20251102T090000
END:STANDARD
BEGIN:DAYLIGHT
TZOFFSETFROM:-0800
TZOFFSETTO:-0700
TZNAME:PDT
DTSTART:20260308T100000
END:DAYLIGHT
BEGIN:STANDARD
TZOFFSETFROM:-0700
TZOFFSETTO:-0800
TZNAME:PST
DTSTART:20261101T090000
END:STANDARD
END:VTIMEZONE
BEGIN:VEVENT
DTSTART;TZID=America/Vancouver:20250718T190000
DTEND;TZID=America/Vancouver:20250718T200000
DTSTAMP:20260425T054922
CREATED:20250715T161413Z
LAST-MODIFIED:20250715T161413Z
UID:10000290-1752865200-1752868800@artsconnect.ing
SUMMARY:Historic Walking Tour
DESCRIPTION:UPDATED HOURS – Celebrate museums with us during Historic Places Days by visiting the museum and taking part in a historic walking tour of Maillardville! \nExplore our exhibits\, train station\, and caboose\, and learn about the history of this neighborhood on our guided walking tours. Take a break afterwards with some drinks and snacks in our kitchen. \nFriday\, July 18th – 7 PM – 8 PM.\nRegistration required.\nFree.\nStarting location – 1116 Brunette Avenue\, Coquitlam.
URL:https://artsconnect.ing/artscalendar/historic-walking-tour/
LOCATION:Mackin House\, 1116 Brunette Avenue\, Coquitlam\, BC\, V3K 1G2\, Canada
CATEGORIES:Walking Tour
ATTACH;FMTTYPE=image/webp:https://artsconnect.ing/wp-content/uploads/2025/07/518362796_1293799116080307_1250018780780767394_n.webp
ORGANIZER;CN="Coquitlam Heritage":MAILTO:info@coquitlamheritage.ca
END:VEVENT
BEGIN:VEVENT
DTSTART;TZID=America/Vancouver:20250721T000000
DTEND;TZID=America/Vancouver:20250721T235959
DTSTAMP:20260425T054922
CREATED:20250715T163838Z
LAST-MODIFIED:20250719T174752Z
UID:10000294-1753056000-1753142399@artsconnect.ing
SUMMARY:Art Out Side: AR Balanced Forces Exhibition Art Walk
DESCRIPTION:Balanced Forces is a one-of-a-kind international AR exhibition woven into Port Moody’s Shoreline Trail as part of Art Out Side. This curated digital art experience invited global artists to explore the dynamic push and pull between opposing forces—light and shadow\, chaos and order\, nature and machine. These virtual works live in harmony (or tension) with the landscape\, offering a thought-provoking blend of technology and terrain.
URL:https://artsconnect.ing/artscalendar/art-out-side-ar-balanced-forces-exhibition-art-walk/
LOCATION:Shoreline Trail\, Port Moody\, BC\, Canada
CATEGORIES:Festival,Visual Arts,Walking Tour
ATTACH;FMTTYPE=image/webp:https://artsconnect.ing/wp-content/uploads/2025/07/686da4ee9c5b2b1efd8aaf73_AOS-Website-Banner.webp
ORGANIZER;CN="PoMoArts":MAILTO:info@pomoarts.ca
END:VEVENT
END:VCALENDAR