BEGIN:VCALENDAR
VERSION:2.0
PRODID:-//ArtsConnect - ECPv6.15.20//NONSGML v1.0//EN
CALSCALE:GREGORIAN
METHOD:PUBLISH
X-WR-CALNAME:ArtsConnect
X-ORIGINAL-URL:https://artsconnect.ing
X-WR-CALDESC:Events for ArtsConnect
REFRESH-INTERVAL;VALUE=DURATION:PT1H
X-Robots-Tag:noindex
X-PUBLISHED-TTL:PT1H
BEGIN:VTIMEZONE
TZID:America/Vancouver
BEGIN:DAYLIGHT
TZOFFSETFROM:-0800
TZOFFSETTO:-0700
TZNAME:PDT
DTSTART:20240310T100000
END:DAYLIGHT
BEGIN:STANDARD
TZOFFSETFROM:-0700
TZOFFSETTO:-0800
TZNAME:PST
DTSTART:20241103T090000
END:STANDARD
BEGIN:DAYLIGHT
TZOFFSETFROM:-0800
TZOFFSETTO:-0700
TZNAME:PDT
DTSTART:20250309T100000
END:DAYLIGHT
BEGIN:STANDARD
TZOFFSETFROM:-0700
TZOFFSETTO:-0800
TZNAME:PST
DTSTART:20251102T090000
END:STANDARD
BEGIN:DAYLIGHT
TZOFFSETFROM:-0800
TZOFFSETTO:-0700
TZNAME:PDT
DTSTART:20260308T100000
END:DAYLIGHT
BEGIN:STANDARD
TZOFFSETFROM:-0700
TZOFFSETTO:-0800
TZNAME:PST
DTSTART:20261101T090000
END:STANDARD
END:VTIMEZONE
BEGIN:VEVENT
DTSTART;TZID=America/Vancouver:20250809T103000
DTEND;TZID=America/Vancouver:20250809T113000
DTSTAMP:20260425T055132
CREATED:20250725T172610Z
LAST-MODIFIED:20250725T172610Z
UID:10000327-1754735400-1754739000@artsconnect.ing
SUMMARY:Downtown PoCo Walking Tour
DESCRIPTION:Join PoCo Heritage as we take a stroll around historic downtown Port Coquitlam. Learn about the development of our city\, sites of interest\, local stories\, and how things got to be the way they are!
URL:https://artsconnect.ing/artscalendar/downtown-poco-walking-tour-2/
LOCATION:PoCo Heritage Museum and Achives\, 2248 McAllister Ave #150\, Port Coquitlam\, BC\, V3C 2A5\, Canada
CATEGORIES:Walking Tour
ATTACH;FMTTYPE=image/webp:https://artsconnect.ing/wp-content/uploads/2025/07/https___cdn.evbuc_.com_images_1017408533_594862380023_1_original.webp
ORGANIZER;CN="PoCo Heritage Museum and Archives":MAILTO:info@pocoheritage.org
END:VEVENT
END:VCALENDAR