BEGIN:VCALENDAR
VERSION:2.0
PRODID:-//ArtsConnect - ECPv6.15.20//NONSGML v1.0//EN
CALSCALE:GREGORIAN
METHOD:PUBLISH
X-WR-CALNAME:ArtsConnect
X-ORIGINAL-URL:https://artsconnect.ing
X-WR-CALDESC:Events for ArtsConnect
REFRESH-INTERVAL;VALUE=DURATION:PT1H
X-Robots-Tag:noindex
X-PUBLISHED-TTL:PT1H
BEGIN:VTIMEZONE
TZID:America/Vancouver
BEGIN:DAYLIGHT
TZOFFSETFROM:-0800
TZOFFSETTO:-0700
TZNAME:PDT
DTSTART:20250309T100000
END:DAYLIGHT
BEGIN:STANDARD
TZOFFSETFROM:-0700
TZOFFSETTO:-0800
TZNAME:PST
DTSTART:20251102T090000
END:STANDARD
BEGIN:DAYLIGHT
TZOFFSETFROM:-0800
TZOFFSETTO:-0700
TZNAME:PDT
DTSTART:20260308T100000
END:DAYLIGHT
BEGIN:STANDARD
TZOFFSETFROM:-0700
TZOFFSETTO:-0800
TZNAME:PST
DTSTART:20261101T090000
END:STANDARD
BEGIN:DAYLIGHT
TZOFFSETFROM:-0800
TZOFFSETTO:-0700
TZNAME:PDT
DTSTART:20270314T100000
END:DAYLIGHT
BEGIN:STANDARD
TZOFFSETFROM:-0700
TZOFFSETTO:-0800
TZNAME:PST
DTSTART:20271107T090000
END:STANDARD
END:VTIMEZONE
BEGIN:VEVENT
DTSTART;TZID=America/Vancouver:20260425T200000
DTEND;TZID=America/Vancouver:20260425T210000
DTSTAMP:20260423T091443
CREATED:20260118T200153Z
LAST-MODIFIED:20260118T200153Z
UID:10000894-1777147200-1777150800@artsconnect.ing
SUMMARY:Rehearsal Hall Sessions: ParaNorma P.I.
DESCRIPTION:Event Details\n\nPARANORMA P.I.\nHilary Fillier\n\nABOUT THE SHOW\nShe solves crimes. She Summons Demons. She Strips like the Devil’s watching. Meet ParaNorma: part private investigator\, part paranormal medium\, part hot horny hellion. Created and performed by the dangerously funny Hilary Fillier—whose deliciously unholy antics have already seduced over 53\,000 TikTok followers— ParaNorma P.I. is part paranormal mystery\, part burlesque exorcism\, and part horned-up fever dream. \nFresh off a trail of seductively spooky success at Fringe Festivals across Canada\, this award-winning supernatural solo smash is ready to haunt your funny bone and raise your… expectations. A full-throttle celebration of fat bodies\, fierce femmes\, and filthy fun\, ParaNorma P.I. is the campy\, creepy\, cleavage-forward comedy you’ve been dying for. \nABOUT THE ARTIST\nHilary Fillier is a graduate of the University of British Columbia BFA Theatre Program. An actor\, writer and producer based in Vancouver\, she is passionate about creating work with a focus on body positivity. \n\n\n\nSINGLE TICKETS ON SAL!\nAdults & Seniors: $25 | Students: $16 \nBOX OFFICE: 604.927.6555 | Open Monday – Saturday\, 12 – 5PM
URL:https://artsconnect.ing/artscalendar/rehearsal-hall-sessions-paranorma-p-i/
LOCATION:Evergreen Cultural Centre Rehearsal Hall\, 1205 Pinetree Way\, Coquitlam\, BC\, V3B 7Y3\, Canada
CATEGORIES:Theatre
ATTACH;FMTTYPE=image/webp:https://artsconnect.ing/wp-content/uploads/2026/01/PARANORMAPI_Photo1_2025-scaled-1.webp
END:VEVENT
BEGIN:VEVENT
DTSTART;TZID=America/Vancouver:20260530T200000
DTEND;TZID=America/Vancouver:20260530T211500
DTSTAMP:20260423T091443
CREATED:20260118T200632Z
LAST-MODIFIED:20260118T200632Z
UID:10000895-1780171200-1780175700@artsconnect.ing
SUMMARY:Rehearsal Hall Sessions: Paco Ha Jazz Quartet – Sketches
DESCRIPTION:SKETCHES\nPaco Ha Jazz Quartet\n\nABOUT THE SHOW\nJoin the Paco Ha Quartet for Sketches\, an evening of original compositions that blend diverse musical influences into the jazz quartet format. Drawing inspiration from various genres\, such as impressionism\, folk\, and ambient music\, Paco Ha’s work creates a rich soundscape that delves into texture\, emotion\, and depth. Expect melody-driven\, powerful pieces that are both thought-provoking and captivating. \nWith a focus on musical exploration and innovation\, the performance promises to be an immersive experience\, highlighting the versatility and creativity of the group. Paco Ha leads the ensemble with his melodic sound and innovative approach. Supported by a talented band\, the quartet’s live performance will offer an intimate experience\, exploring varied sounds within the jazz idiom while paying homage to the masters who paved the way for this music. \nABOUT THE ARTIST\nPaco Ha is a tenor saxophonist based in Vancouver\, drawing influence from jazz icons Joe Henderson and Kenny Garrett. As both a bandleader and sideman in various genres such as jazz\, RnB\, and pop\, he has performed at various venues across the Lower Mainland and was featured at the Jazz at the Bolt Festival in 2025. In addition to his own projects\, Paco co-leads projects like PATH and the Alice Coltrane Project\, a collaboration with his sibling\, Ru Ha. Known for his melodic sound and innovative approach\, Paco is an up-and-coming saxophonist in the Vancouver jazz scene.\n \n\n\n\nSINGLE TICKETS ON SALE!\nAdults & Seniors: $25 | Students: $16 \nBOX OFFICE: 604.927.6555 | Open Monday – Saturday\, 12 – 5PM
URL:https://artsconnect.ing/artscalendar/rehearsal-hall-sessions-paco-ha-jazz-quartet-sketches/
LOCATION:Evergreen Cultural Centre Rehearsal Hall\, 1205 Pinetree Way\, Coquitlam\, BC\, V3B 7Y3\, Canada
CATEGORIES:Music
ATTACH;FMTTYPE=image/jpeg:https://artsconnect.ing/wp-content/uploads/2026/01/Paco_09.jpg
END:VEVENT
END:VCALENDAR