BEGIN:VCALENDAR
VERSION:2.0
PRODID:-//ArtsConnect - ECPv6.15.20//NONSGML v1.0//EN
CALSCALE:GREGORIAN
METHOD:PUBLISH
X-WR-CALNAME:ArtsConnect
X-ORIGINAL-URL:https://artsconnect.ing
X-WR-CALDESC:Events for ArtsConnect
REFRESH-INTERVAL;VALUE=DURATION:PT1H
X-Robots-Tag:noindex
X-PUBLISHED-TTL:PT1H
BEGIN:VTIMEZONE
TZID:America/Vancouver
BEGIN:DAYLIGHT
TZOFFSETFROM:-0800
TZOFFSETTO:-0700
TZNAME:PDT
DTSTART:20250309T100000
END:DAYLIGHT
BEGIN:STANDARD
TZOFFSETFROM:-0700
TZOFFSETTO:-0800
TZNAME:PST
DTSTART:20251102T090000
END:STANDARD
BEGIN:DAYLIGHT
TZOFFSETFROM:-0800
TZOFFSETTO:-0700
TZNAME:PDT
DTSTART:20260308T100000
END:DAYLIGHT
BEGIN:STANDARD
TZOFFSETFROM:-0700
TZOFFSETTO:-0800
TZNAME:PST
DTSTART:20261101T090000
END:STANDARD
BEGIN:DAYLIGHT
TZOFFSETFROM:-0800
TZOFFSETTO:-0700
TZNAME:PDT
DTSTART:20270314T100000
END:DAYLIGHT
BEGIN:STANDARD
TZOFFSETFROM:-0700
TZOFFSETTO:-0800
TZNAME:PST
DTSTART:20271107T090000
END:STANDARD
END:VTIMEZONE
BEGIN:VEVENT
DTSTART;TZID=America/Vancouver:20260424T213000
DTEND;TZID=America/Vancouver:20260424T213000
DTSTAMP:20260423T123138
CREATED:20260404T164113Z
LAST-MODIFIED:20260404T164113Z
UID:10001227-1777066200-1777066200@artsconnect.ing
SUMMARY:Live Music at the Well: DJ Blackout
DESCRIPTION:Fridays from 9:30pm to 12:30am\nApril 3\, 10\, 17\, 24 @yoseph_djblackout \nSaturdays from 9pm to midnight\nApril 4 @patrickgavigan\nApril 11 @jordanr_burgess\nApril 18 @nickhope_\nApril 25 Anthony P
URL:https://artsconnect.ing/artscalendar/live-music-at-the-well-dj-blackout-2/2026-04-24/
LOCATION:St. James’s Well\, 248 Newport Drive\, Port Moody\, BC\, V3H 5B9\, Canada
CATEGORIES:Music
ATTACH;FMTTYPE=image/jpeg:https://artsconnect.ing/wp-content/uploads/2026/04/658852718_18576107995019812_4625309240328056965_n.jpg
ORGANIZER;CN="St. James%E2%80%99s Well":MAILTO:https://stjameswell.ca/contact/
END:VEVENT
END:VCALENDAR