BEGIN:VCALENDAR
VERSION:2.0
PRODID:-//ArtsConnect - ECPv6.15.20//NONSGML v1.0//EN
CALSCALE:GREGORIAN
METHOD:PUBLISH
X-WR-CALNAME:ArtsConnect
X-ORIGINAL-URL:https://artsconnect.ing
X-WR-CALDESC:Events for ArtsConnect
REFRESH-INTERVAL;VALUE=DURATION:PT1H
X-Robots-Tag:noindex
X-PUBLISHED-TTL:PT1H
BEGIN:VTIMEZONE
TZID:America/Vancouver
BEGIN:DAYLIGHT
TZOFFSETFROM:-0800
TZOFFSETTO:-0700
TZNAME:PDT
DTSTART:20250309T100000
END:DAYLIGHT
BEGIN:STANDARD
TZOFFSETFROM:-0700
TZOFFSETTO:-0800
TZNAME:PST
DTSTART:20251102T090000
END:STANDARD
BEGIN:DAYLIGHT
TZOFFSETFROM:-0800
TZOFFSETTO:-0700
TZNAME:PDT
DTSTART:20260308T100000
END:DAYLIGHT
BEGIN:STANDARD
TZOFFSETFROM:-0700
TZOFFSETTO:-0800
TZNAME:PST
DTSTART:20261101T090000
END:STANDARD
BEGIN:DAYLIGHT
TZOFFSETFROM:-0800
TZOFFSETTO:-0700
TZNAME:PDT
DTSTART:20270314T100000
END:DAYLIGHT
BEGIN:STANDARD
TZOFFSETFROM:-0700
TZOFFSETTO:-0800
TZNAME:PST
DTSTART:20271107T090000
END:STANDARD
END:VTIMEZONE
BEGIN:VEVENT
DTSTART;TZID=America/Vancouver:20260513T190000
DTEND;TZID=America/Vancouver:20260513T220000
DTSTAMP:20260423T123144
CREATED:20260211T185536Z
LAST-MODIFIED:20260211T191327Z
UID:10001049-1778698800-1778709600@artsconnect.ing
SUMMARY:Port Coquitlam Writers Group - Drop In
DESCRIPTION:Engage with other local writers through prompts\, readings\, and brainstorming\, and discover a safe space to work on your craft. \n\n\n\n\nDo you love to write or feel like you have poetry or stories just waiting to come out? Come to the Port Coquitlam Writers Group at the Gathering Place on the 2nd and 4th Wednesday of every month from 6:30-8pm. Engage with other local writers through prompts\, readings\, and brainstorming\, and discover a safe space to work on your craft. Open to beginning\, emerging\, or established wordsmiths\, 16 and older; attending the first meeting is free\, then you can purchase a Poco Arts Council annual membership for $10. Bring a pen and paper or laptop and your creativity!
URL:https://artsconnect.ing/artscalendar/port-coquitlam-writers-group-drop-in/2026-05-13/
LOCATION:Leigh Square\, 2253 Leigh Square Pl\, Port Coquitlam\, BC\, V3C 3B8\, Canada
CATEGORIES:Literary Arts
ATTACH;FMTTYPE=image/webp:https://artsconnect.ing/wp-content/uploads/2026/02/Port-Coquitlam-Writers-Group-Drop-In.webp
ORGANIZER;CN="Poco Arts Council":MAILTO:https://pocoarts.wordpress.com/contact/
END:VEVENT
BEGIN:VEVENT
DTSTART;TZID=America/Vancouver:20260527T190000
DTEND;TZID=America/Vancouver:20260527T220000
DTSTAMP:20260423T123144
CREATED:20260211T185536Z
LAST-MODIFIED:20260211T191327Z
UID:10001061-1779908400-1779919200@artsconnect.ing
SUMMARY:Port Coquitlam Writers Group - Drop In
DESCRIPTION:Engage with other local writers through prompts\, readings\, and brainstorming\, and discover a safe space to work on your craft. \n\n\n\n\nDo you love to write or feel like you have poetry or stories just waiting to come out? Come to the Port Coquitlam Writers Group at the Gathering Place on the 2nd and 4th Wednesday of every month from 6:30-8pm. Engage with other local writers through prompts\, readings\, and brainstorming\, and discover a safe space to work on your craft. Open to beginning\, emerging\, or established wordsmiths\, 16 and older; attending the first meeting is free\, then you can purchase a Poco Arts Council annual membership for $10. Bring a pen and paper or laptop and your creativity!
URL:https://artsconnect.ing/artscalendar/port-coquitlam-writers-group-drop-in/2026-05-27/
LOCATION:Leigh Square\, 2253 Leigh Square Pl\, Port Coquitlam\, BC\, V3C 3B8\, Canada
CATEGORIES:Literary Arts
ATTACH;FMTTYPE=image/webp:https://artsconnect.ing/wp-content/uploads/2026/02/Port-Coquitlam-Writers-Group-Drop-In.webp
ORGANIZER;CN="Poco Arts Council":MAILTO:https://pocoarts.wordpress.com/contact/
END:VEVENT
BEGIN:VEVENT
DTSTART;TZID=America/Vancouver:20260610T190000
DTEND;TZID=America/Vancouver:20260610T220000
DTSTAMP:20260423T123144
CREATED:20260211T185536Z
LAST-MODIFIED:20260211T191327Z
UID:10001050-1781118000-1781128800@artsconnect.ing
SUMMARY:Port Coquitlam Writers Group - Drop In
DESCRIPTION:Engage with other local writers through prompts\, readings\, and brainstorming\, and discover a safe space to work on your craft. \n\n\n\n\nDo you love to write or feel like you have poetry or stories just waiting to come out? Come to the Port Coquitlam Writers Group at the Gathering Place on the 2nd and 4th Wednesday of every month from 6:30-8pm. Engage with other local writers through prompts\, readings\, and brainstorming\, and discover a safe space to work on your craft. Open to beginning\, emerging\, or established wordsmiths\, 16 and older; attending the first meeting is free\, then you can purchase a Poco Arts Council annual membership for $10. Bring a pen and paper or laptop and your creativity!
URL:https://artsconnect.ing/artscalendar/port-coquitlam-writers-group-drop-in/2026-06-10/
LOCATION:Leigh Square\, 2253 Leigh Square Pl\, Port Coquitlam\, BC\, V3C 3B8\, Canada
CATEGORIES:Literary Arts
ATTACH;FMTTYPE=image/webp:https://artsconnect.ing/wp-content/uploads/2026/02/Port-Coquitlam-Writers-Group-Drop-In.webp
ORGANIZER;CN="Poco Arts Council":MAILTO:https://pocoarts.wordpress.com/contact/
END:VEVENT
BEGIN:VEVENT
DTSTART;TZID=America/Vancouver:20260624T190000
DTEND;TZID=America/Vancouver:20260624T220000
DTSTAMP:20260423T123144
CREATED:20260211T185536Z
LAST-MODIFIED:20260211T191327Z
UID:10001062-1782327600-1782338400@artsconnect.ing
SUMMARY:Port Coquitlam Writers Group - Drop In
DESCRIPTION:Engage with other local writers through prompts\, readings\, and brainstorming\, and discover a safe space to work on your craft. \n\n\n\n\nDo you love to write or feel like you have poetry or stories just waiting to come out? Come to the Port Coquitlam Writers Group at the Gathering Place on the 2nd and 4th Wednesday of every month from 6:30-8pm. Engage with other local writers through prompts\, readings\, and brainstorming\, and discover a safe space to work on your craft. Open to beginning\, emerging\, or established wordsmiths\, 16 and older; attending the first meeting is free\, then you can purchase a Poco Arts Council annual membership for $10. Bring a pen and paper or laptop and your creativity!
URL:https://artsconnect.ing/artscalendar/port-coquitlam-writers-group-drop-in/2026-06-24/
LOCATION:Leigh Square\, 2253 Leigh Square Pl\, Port Coquitlam\, BC\, V3C 3B8\, Canada
CATEGORIES:Literary Arts
ATTACH;FMTTYPE=image/webp:https://artsconnect.ing/wp-content/uploads/2026/02/Port-Coquitlam-Writers-Group-Drop-In.webp
ORGANIZER;CN="Poco Arts Council":MAILTO:https://pocoarts.wordpress.com/contact/
END:VEVENT
BEGIN:VEVENT
DTSTART;TZID=America/Vancouver:20260708T190000
DTEND;TZID=America/Vancouver:20260708T220000
DTSTAMP:20260423T123144
CREATED:20260211T185536Z
LAST-MODIFIED:20260211T191327Z
UID:10001051-1783537200-1783548000@artsconnect.ing
SUMMARY:Port Coquitlam Writers Group - Drop In
DESCRIPTION:Engage with other local writers through prompts\, readings\, and brainstorming\, and discover a safe space to work on your craft. \n\n\n\n\nDo you love to write or feel like you have poetry or stories just waiting to come out? Come to the Port Coquitlam Writers Group at the Gathering Place on the 2nd and 4th Wednesday of every month from 6:30-8pm. Engage with other local writers through prompts\, readings\, and brainstorming\, and discover a safe space to work on your craft. Open to beginning\, emerging\, or established wordsmiths\, 16 and older; attending the first meeting is free\, then you can purchase a Poco Arts Council annual membership for $10. Bring a pen and paper or laptop and your creativity!
URL:https://artsconnect.ing/artscalendar/port-coquitlam-writers-group-drop-in/2026-07-08/
LOCATION:Leigh Square\, 2253 Leigh Square Pl\, Port Coquitlam\, BC\, V3C 3B8\, Canada
CATEGORIES:Literary Arts
ATTACH;FMTTYPE=image/webp:https://artsconnect.ing/wp-content/uploads/2026/02/Port-Coquitlam-Writers-Group-Drop-In.webp
ORGANIZER;CN="Poco Arts Council":MAILTO:https://pocoarts.wordpress.com/contact/
END:VEVENT
BEGIN:VEVENT
DTSTART;TZID=America/Vancouver:20260722T190000
DTEND;TZID=America/Vancouver:20260722T220000
DTSTAMP:20260423T123144
CREATED:20260211T185536Z
LAST-MODIFIED:20260211T191327Z
UID:10001063-1784746800-1784757600@artsconnect.ing
SUMMARY:Port Coquitlam Writers Group - Drop In
DESCRIPTION:Engage with other local writers through prompts\, readings\, and brainstorming\, and discover a safe space to work on your craft. \n\n\n\n\nDo you love to write or feel like you have poetry or stories just waiting to come out? Come to the Port Coquitlam Writers Group at the Gathering Place on the 2nd and 4th Wednesday of every month from 6:30-8pm. Engage with other local writers through prompts\, readings\, and brainstorming\, and discover a safe space to work on your craft. Open to beginning\, emerging\, or established wordsmiths\, 16 and older; attending the first meeting is free\, then you can purchase a Poco Arts Council annual membership for $10. Bring a pen and paper or laptop and your creativity!
URL:https://artsconnect.ing/artscalendar/port-coquitlam-writers-group-drop-in/2026-07-22/
LOCATION:Leigh Square\, 2253 Leigh Square Pl\, Port Coquitlam\, BC\, V3C 3B8\, Canada
CATEGORIES:Literary Arts
ATTACH;FMTTYPE=image/webp:https://artsconnect.ing/wp-content/uploads/2026/02/Port-Coquitlam-Writers-Group-Drop-In.webp
ORGANIZER;CN="Poco Arts Council":MAILTO:https://pocoarts.wordpress.com/contact/
END:VEVENT
BEGIN:VEVENT
DTSTART;TZID=America/Vancouver:20260812T190000
DTEND;TZID=America/Vancouver:20260812T220000
DTSTAMP:20260423T123144
CREATED:20260211T185536Z
LAST-MODIFIED:20260211T191327Z
UID:10001052-1786561200-1786572000@artsconnect.ing
SUMMARY:Port Coquitlam Writers Group - Drop In
DESCRIPTION:Engage with other local writers through prompts\, readings\, and brainstorming\, and discover a safe space to work on your craft. \n\n\n\n\nDo you love to write or feel like you have poetry or stories just waiting to come out? Come to the Port Coquitlam Writers Group at the Gathering Place on the 2nd and 4th Wednesday of every month from 6:30-8pm. Engage with other local writers through prompts\, readings\, and brainstorming\, and discover a safe space to work on your craft. Open to beginning\, emerging\, or established wordsmiths\, 16 and older; attending the first meeting is free\, then you can purchase a Poco Arts Council annual membership for $10. Bring a pen and paper or laptop and your creativity!
URL:https://artsconnect.ing/artscalendar/port-coquitlam-writers-group-drop-in/2026-08-12/
LOCATION:Leigh Square\, 2253 Leigh Square Pl\, Port Coquitlam\, BC\, V3C 3B8\, Canada
CATEGORIES:Literary Arts
ATTACH;FMTTYPE=image/webp:https://artsconnect.ing/wp-content/uploads/2026/02/Port-Coquitlam-Writers-Group-Drop-In.webp
ORGANIZER;CN="Poco Arts Council":MAILTO:https://pocoarts.wordpress.com/contact/
END:VEVENT
BEGIN:VEVENT
DTSTART;TZID=America/Vancouver:20260826T190000
DTEND;TZID=America/Vancouver:20260826T220000
DTSTAMP:20260423T123144
CREATED:20260211T185536Z
LAST-MODIFIED:20260211T191327Z
UID:10001064-1787770800-1787781600@artsconnect.ing
SUMMARY:Port Coquitlam Writers Group - Drop In
DESCRIPTION:Engage with other local writers through prompts\, readings\, and brainstorming\, and discover a safe space to work on your craft. \n\n\n\n\nDo you love to write or feel like you have poetry or stories just waiting to come out? Come to the Port Coquitlam Writers Group at the Gathering Place on the 2nd and 4th Wednesday of every month from 6:30-8pm. Engage with other local writers through prompts\, readings\, and brainstorming\, and discover a safe space to work on your craft. Open to beginning\, emerging\, or established wordsmiths\, 16 and older; attending the first meeting is free\, then you can purchase a Poco Arts Council annual membership for $10. Bring a pen and paper or laptop and your creativity!
URL:https://artsconnect.ing/artscalendar/port-coquitlam-writers-group-drop-in/2026-08-26/
LOCATION:Leigh Square\, 2253 Leigh Square Pl\, Port Coquitlam\, BC\, V3C 3B8\, Canada
CATEGORIES:Literary Arts
ATTACH;FMTTYPE=image/webp:https://artsconnect.ing/wp-content/uploads/2026/02/Port-Coquitlam-Writers-Group-Drop-In.webp
ORGANIZER;CN="Poco Arts Council":MAILTO:https://pocoarts.wordpress.com/contact/
END:VEVENT
BEGIN:VEVENT
DTSTART;TZID=America/Vancouver:20260909T190000
DTEND;TZID=America/Vancouver:20260909T220000
DTSTAMP:20260423T123144
CREATED:20260211T185536Z
LAST-MODIFIED:20260211T191327Z
UID:10001053-1788980400-1788991200@artsconnect.ing
SUMMARY:Port Coquitlam Writers Group - Drop In
DESCRIPTION:Engage with other local writers through prompts\, readings\, and brainstorming\, and discover a safe space to work on your craft. \n\n\n\n\nDo you love to write or feel like you have poetry or stories just waiting to come out? Come to the Port Coquitlam Writers Group at the Gathering Place on the 2nd and 4th Wednesday of every month from 6:30-8pm. Engage with other local writers through prompts\, readings\, and brainstorming\, and discover a safe space to work on your craft. Open to beginning\, emerging\, or established wordsmiths\, 16 and older; attending the first meeting is free\, then you can purchase a Poco Arts Council annual membership for $10. Bring a pen and paper or laptop and your creativity!
URL:https://artsconnect.ing/artscalendar/port-coquitlam-writers-group-drop-in/2026-09-09/
LOCATION:Leigh Square\, 2253 Leigh Square Pl\, Port Coquitlam\, BC\, V3C 3B8\, Canada
CATEGORIES:Literary Arts
ATTACH;FMTTYPE=image/webp:https://artsconnect.ing/wp-content/uploads/2026/02/Port-Coquitlam-Writers-Group-Drop-In.webp
ORGANIZER;CN="Poco Arts Council":MAILTO:https://pocoarts.wordpress.com/contact/
END:VEVENT
BEGIN:VEVENT
DTSTART;TZID=America/Vancouver:20260923T190000
DTEND;TZID=America/Vancouver:20260923T220000
DTSTAMP:20260423T123144
CREATED:20260211T185536Z
LAST-MODIFIED:20260211T191327Z
UID:10001065-1790190000-1790200800@artsconnect.ing
SUMMARY:Port Coquitlam Writers Group - Drop In
DESCRIPTION:Engage with other local writers through prompts\, readings\, and brainstorming\, and discover a safe space to work on your craft. \n\n\n\n\nDo you love to write or feel like you have poetry or stories just waiting to come out? Come to the Port Coquitlam Writers Group at the Gathering Place on the 2nd and 4th Wednesday of every month from 6:30-8pm. Engage with other local writers through prompts\, readings\, and brainstorming\, and discover a safe space to work on your craft. Open to beginning\, emerging\, or established wordsmiths\, 16 and older; attending the first meeting is free\, then you can purchase a Poco Arts Council annual membership for $10. Bring a pen and paper or laptop and your creativity!
URL:https://artsconnect.ing/artscalendar/port-coquitlam-writers-group-drop-in/2026-09-23/
LOCATION:Leigh Square\, 2253 Leigh Square Pl\, Port Coquitlam\, BC\, V3C 3B8\, Canada
CATEGORIES:Literary Arts
ATTACH;FMTTYPE=image/webp:https://artsconnect.ing/wp-content/uploads/2026/02/Port-Coquitlam-Writers-Group-Drop-In.webp
ORGANIZER;CN="Poco Arts Council":MAILTO:https://pocoarts.wordpress.com/contact/
END:VEVENT
BEGIN:VEVENT
DTSTART;TZID=America/Vancouver:20261014T190000
DTEND;TZID=America/Vancouver:20261014T220000
DTSTAMP:20260423T123144
CREATED:20260211T185536Z
LAST-MODIFIED:20260211T191327Z
UID:10001054-1792004400-1792015200@artsconnect.ing
SUMMARY:Port Coquitlam Writers Group - Drop In
DESCRIPTION:Engage with other local writers through prompts\, readings\, and brainstorming\, and discover a safe space to work on your craft. \n\n\n\n\nDo you love to write or feel like you have poetry or stories just waiting to come out? Come to the Port Coquitlam Writers Group at the Gathering Place on the 2nd and 4th Wednesday of every month from 6:30-8pm. Engage with other local writers through prompts\, readings\, and brainstorming\, and discover a safe space to work on your craft. Open to beginning\, emerging\, or established wordsmiths\, 16 and older; attending the first meeting is free\, then you can purchase a Poco Arts Council annual membership for $10. Bring a pen and paper or laptop and your creativity!
URL:https://artsconnect.ing/artscalendar/port-coquitlam-writers-group-drop-in/2026-10-14/
LOCATION:Leigh Square\, 2253 Leigh Square Pl\, Port Coquitlam\, BC\, V3C 3B8\, Canada
CATEGORIES:Literary Arts
ATTACH;FMTTYPE=image/webp:https://artsconnect.ing/wp-content/uploads/2026/02/Port-Coquitlam-Writers-Group-Drop-In.webp
ORGANIZER;CN="Poco Arts Council":MAILTO:https://pocoarts.wordpress.com/contact/
END:VEVENT
BEGIN:VEVENT
DTSTART;TZID=America/Vancouver:20261028T190000
DTEND;TZID=America/Vancouver:20261028T220000
DTSTAMP:20260423T123144
CREATED:20260211T185536Z
LAST-MODIFIED:20260211T191327Z
UID:10001066-1793214000-1793224800@artsconnect.ing
SUMMARY:Port Coquitlam Writers Group - Drop In
DESCRIPTION:Engage with other local writers through prompts\, readings\, and brainstorming\, and discover a safe space to work on your craft. \n\n\n\n\nDo you love to write or feel like you have poetry or stories just waiting to come out? Come to the Port Coquitlam Writers Group at the Gathering Place on the 2nd and 4th Wednesday of every month from 6:30-8pm. Engage with other local writers through prompts\, readings\, and brainstorming\, and discover a safe space to work on your craft. Open to beginning\, emerging\, or established wordsmiths\, 16 and older; attending the first meeting is free\, then you can purchase a Poco Arts Council annual membership for $10. Bring a pen and paper or laptop and your creativity!
URL:https://artsconnect.ing/artscalendar/port-coquitlam-writers-group-drop-in/2026-10-28/
LOCATION:Leigh Square\, 2253 Leigh Square Pl\, Port Coquitlam\, BC\, V3C 3B8\, Canada
CATEGORIES:Literary Arts
ATTACH;FMTTYPE=image/webp:https://artsconnect.ing/wp-content/uploads/2026/02/Port-Coquitlam-Writers-Group-Drop-In.webp
ORGANIZER;CN="Poco Arts Council":MAILTO:https://pocoarts.wordpress.com/contact/
END:VEVENT
BEGIN:VEVENT
DTSTART;TZID=America/Vancouver:20261111T190000
DTEND;TZID=America/Vancouver:20261111T220000
DTSTAMP:20260423T123144
CREATED:20260211T185536Z
LAST-MODIFIED:20260211T191327Z
UID:10001055-1794423600-1794434400@artsconnect.ing
SUMMARY:Port Coquitlam Writers Group - Drop In
DESCRIPTION:Engage with other local writers through prompts\, readings\, and brainstorming\, and discover a safe space to work on your craft. \n\n\n\n\nDo you love to write or feel like you have poetry or stories just waiting to come out? Come to the Port Coquitlam Writers Group at the Gathering Place on the 2nd and 4th Wednesday of every month from 6:30-8pm. Engage with other local writers through prompts\, readings\, and brainstorming\, and discover a safe space to work on your craft. Open to beginning\, emerging\, or established wordsmiths\, 16 and older; attending the first meeting is free\, then you can purchase a Poco Arts Council annual membership for $10. Bring a pen and paper or laptop and your creativity!
URL:https://artsconnect.ing/artscalendar/port-coquitlam-writers-group-drop-in/2026-11-11/
LOCATION:Leigh Square\, 2253 Leigh Square Pl\, Port Coquitlam\, BC\, V3C 3B8\, Canada
CATEGORIES:Literary Arts
ATTACH;FMTTYPE=image/webp:https://artsconnect.ing/wp-content/uploads/2026/02/Port-Coquitlam-Writers-Group-Drop-In.webp
ORGANIZER;CN="Poco Arts Council":MAILTO:https://pocoarts.wordpress.com/contact/
END:VEVENT
BEGIN:VEVENT
DTSTART;TZID=America/Vancouver:20261125T190000
DTEND;TZID=America/Vancouver:20261125T220000
DTSTAMP:20260423T123144
CREATED:20260211T185536Z
LAST-MODIFIED:20260211T191327Z
UID:10001067-1795633200-1795644000@artsconnect.ing
SUMMARY:Port Coquitlam Writers Group - Drop In
DESCRIPTION:Engage with other local writers through prompts\, readings\, and brainstorming\, and discover a safe space to work on your craft. \n\n\n\n\nDo you love to write or feel like you have poetry or stories just waiting to come out? Come to the Port Coquitlam Writers Group at the Gathering Place on the 2nd and 4th Wednesday of every month from 6:30-8pm. Engage with other local writers through prompts\, readings\, and brainstorming\, and discover a safe space to work on your craft. Open to beginning\, emerging\, or established wordsmiths\, 16 and older; attending the first meeting is free\, then you can purchase a Poco Arts Council annual membership for $10. Bring a pen and paper or laptop and your creativity!
URL:https://artsconnect.ing/artscalendar/port-coquitlam-writers-group-drop-in/2026-11-25/
LOCATION:Leigh Square\, 2253 Leigh Square Pl\, Port Coquitlam\, BC\, V3C 3B8\, Canada
CATEGORIES:Literary Arts
ATTACH;FMTTYPE=image/webp:https://artsconnect.ing/wp-content/uploads/2026/02/Port-Coquitlam-Writers-Group-Drop-In.webp
ORGANIZER;CN="Poco Arts Council":MAILTO:https://pocoarts.wordpress.com/contact/
END:VEVENT
BEGIN:VEVENT
DTSTART;TZID=America/Vancouver:20261209T190000
DTEND;TZID=America/Vancouver:20261209T220000
DTSTAMP:20260423T123144
CREATED:20260211T185536Z
LAST-MODIFIED:20260211T191327Z
UID:10001056-1796842800-1796853600@artsconnect.ing
SUMMARY:Port Coquitlam Writers Group - Drop In
DESCRIPTION:Engage with other local writers through prompts\, readings\, and brainstorming\, and discover a safe space to work on your craft. \n\n\n\n\nDo you love to write or feel like you have poetry or stories just waiting to come out? Come to the Port Coquitlam Writers Group at the Gathering Place on the 2nd and 4th Wednesday of every month from 6:30-8pm. Engage with other local writers through prompts\, readings\, and brainstorming\, and discover a safe space to work on your craft. Open to beginning\, emerging\, or established wordsmiths\, 16 and older; attending the first meeting is free\, then you can purchase a Poco Arts Council annual membership for $10. Bring a pen and paper or laptop and your creativity!
URL:https://artsconnect.ing/artscalendar/port-coquitlam-writers-group-drop-in/2026-12-09/
LOCATION:Leigh Square\, 2253 Leigh Square Pl\, Port Coquitlam\, BC\, V3C 3B8\, Canada
CATEGORIES:Literary Arts
ATTACH;FMTTYPE=image/webp:https://artsconnect.ing/wp-content/uploads/2026/02/Port-Coquitlam-Writers-Group-Drop-In.webp
ORGANIZER;CN="Poco Arts Council":MAILTO:https://pocoarts.wordpress.com/contact/
END:VEVENT
BEGIN:VEVENT
DTSTART;TZID=America/Vancouver:20261223T190000
DTEND;TZID=America/Vancouver:20261223T220000
DTSTAMP:20260423T123144
CREATED:20260211T185536Z
LAST-MODIFIED:20260211T191327Z
UID:10001068-1798052400-1798063200@artsconnect.ing
SUMMARY:Port Coquitlam Writers Group - Drop In
DESCRIPTION:Engage with other local writers through prompts\, readings\, and brainstorming\, and discover a safe space to work on your craft. \n\n\n\n\nDo you love to write or feel like you have poetry or stories just waiting to come out? Come to the Port Coquitlam Writers Group at the Gathering Place on the 2nd and 4th Wednesday of every month from 6:30-8pm. Engage with other local writers through prompts\, readings\, and brainstorming\, and discover a safe space to work on your craft. Open to beginning\, emerging\, or established wordsmiths\, 16 and older; attending the first meeting is free\, then you can purchase a Poco Arts Council annual membership for $10. Bring a pen and paper or laptop and your creativity!
URL:https://artsconnect.ing/artscalendar/port-coquitlam-writers-group-drop-in/2026-12-23/
LOCATION:Leigh Square\, 2253 Leigh Square Pl\, Port Coquitlam\, BC\, V3C 3B8\, Canada
CATEGORIES:Literary Arts
ATTACH;FMTTYPE=image/webp:https://artsconnect.ing/wp-content/uploads/2026/02/Port-Coquitlam-Writers-Group-Drop-In.webp
ORGANIZER;CN="Poco Arts Council":MAILTO:https://pocoarts.wordpress.com/contact/
END:VEVENT
END:VCALENDAR