BEGIN:VCALENDAR
VERSION:2.0
PRODID:-//ArtsConnect - ECPv6.15.20//NONSGML v1.0//EN
CALSCALE:GREGORIAN
METHOD:PUBLISH
X-WR-CALNAME:ArtsConnect
X-ORIGINAL-URL:https://artsconnect.ing
X-WR-CALDESC:Events for ArtsConnect
REFRESH-INTERVAL;VALUE=DURATION:PT1H
X-Robots-Tag:noindex
X-PUBLISHED-TTL:PT1H
BEGIN:VTIMEZONE
TZID:America/Vancouver
BEGIN:DAYLIGHT
TZOFFSETFROM:-0800
TZOFFSETTO:-0700
TZNAME:PDT
DTSTART:20250309T100000
END:DAYLIGHT
BEGIN:STANDARD
TZOFFSETFROM:-0700
TZOFFSETTO:-0800
TZNAME:PST
DTSTART:20251102T090000
END:STANDARD
BEGIN:DAYLIGHT
TZOFFSETFROM:-0800
TZOFFSETTO:-0700
TZNAME:PDT
DTSTART:20260308T100000
END:DAYLIGHT
BEGIN:STANDARD
TZOFFSETFROM:-0700
TZOFFSETTO:-0800
TZNAME:PST
DTSTART:20261101T090000
END:STANDARD
BEGIN:DAYLIGHT
TZOFFSETFROM:-0800
TZOFFSETTO:-0700
TZNAME:PDT
DTSTART:20270314T100000
END:DAYLIGHT
BEGIN:STANDARD
TZOFFSETFROM:-0700
TZOFFSETTO:-0800
TZNAME:PST
DTSTART:20271107T090000
END:STANDARD
END:VTIMEZONE
BEGIN:VEVENT
DTSTART;TZID=America/Vancouver:20260620T090000
DTEND;TZID=America/Vancouver:20260620T160000
DTSTAMP:20260423T140927
CREATED:20260409T210838Z
LAST-MODIFIED:20260409T210838Z
UID:10001249-1781946000-1781971200@artsconnect.ing
SUMMARY:Dogwood Visual Arts Show and Sale
DESCRIPTION:Dogwood Visual Arts Show and Sale\npresented by The Dogwood Seniors Society and the City of Coquitlam \nSaturday June 20\, 2026 9 AM – 4 PM\nSunday June 21\, 2026 9AM – 3PM \nLocated at Dogwood Pavilion and Centennial Pavilion 1655 Winslow Ave.\, Coquitlam\nContact: 604 927 6098 \nFeatured groups are Photography Club\, Dogwood Designs\, Still Crafting\, Rocks and Gems Lapidary\, Woodworking and Art Club. \nFree admission\, free demos & parking\, bus access and onsite beverages and snacks for sale.
URL:https://artsconnect.ing/artscalendar/dogwood-visual-arts-show-and-sale-2/2026-06-20/
LOCATION:Dogwood Pavilion\, 1655 Winslow Avenue\, Coquitlam\, BC\, V3J 0E7\, Canada
CATEGORIES:Visual Arts
ATTACH;FMTTYPE=image/webp:https://artsconnect.ing/wp-content/uploads/2026/04/June-show-poster-visual-arts.webp
ORGANIZER;CN="The Dogwood Seniors Society":MAILTO:dogwoodseniors50plus@gmail.com
END:VEVENT
BEGIN:VEVENT
DTSTART;TZID=America/Vancouver:20260621T090000
DTEND;TZID=America/Vancouver:20260621T150000
DTSTAMP:20260423T140927
CREATED:20260409T210838Z
LAST-MODIFIED:20260409T210838Z
UID:10001250-1782032400-1782054000@artsconnect.ing
SUMMARY:Dogwood Visual Arts Show and Sale
DESCRIPTION:Dogwood Visual Arts Show and Sale\npresented by The Dogwood Seniors Society and the City of Coquitlam \nSaturday June 20\, 2026 9 AM – 4 PM\nSunday June 21\, 2026 9AM – 3PM \nLocated at Dogwood Pavilion and Centennial Pavilion 1655 Winslow Ave.\, Coquitlam\nContact: 604 927 6098 \nFeatured groups are Photography Club\, Dogwood Designs\, Still Crafting\, Rocks and Gems Lapidary\, Woodworking and Art Club. \nFree admission\, free demos & parking\, bus access and onsite beverages and snacks for sale.
URL:https://artsconnect.ing/artscalendar/dogwood-visual-arts-show-and-sale-2/2026-06-21/
LOCATION:Dogwood Pavilion\, 1655 Winslow Avenue\, Coquitlam\, BC\, V3J 0E7\, Canada
CATEGORIES:Visual Arts
ATTACH;FMTTYPE=image/webp:https://artsconnect.ing/wp-content/uploads/2026/04/June-show-poster-visual-arts.webp
ORGANIZER;CN="The Dogwood Seniors Society":MAILTO:dogwoodseniors50plus@gmail.com
END:VEVENT
END:VCALENDAR