BEGIN:VCALENDAR
VERSION:2.0
PRODID:-//ArtsConnect - ECPv6.15.20//NONSGML v1.0//EN
CALSCALE:GREGORIAN
METHOD:PUBLISH
X-ORIGINAL-URL:https://artsconnect.ing
X-WR-CALDESC:Events for ArtsConnect
REFRESH-INTERVAL;VALUE=DURATION:PT1H
X-Robots-Tag:noindex
X-PUBLISHED-TTL:PT1H
BEGIN:VTIMEZONE
TZID:America/Vancouver
BEGIN:DAYLIGHT
TZOFFSETFROM:-0800
TZOFFSETTO:-0700
TZNAME:PDT
DTSTART:20250309T100000
END:DAYLIGHT
BEGIN:STANDARD
TZOFFSETFROM:-0700
TZOFFSETTO:-0800
TZNAME:PST
DTSTART:20251102T090000
END:STANDARD
BEGIN:DAYLIGHT
TZOFFSETFROM:-0800
TZOFFSETTO:-0700
TZNAME:PDT
DTSTART:20260308T100000
END:DAYLIGHT
BEGIN:STANDARD
TZOFFSETFROM:-0700
TZOFFSETTO:-0800
TZNAME:PST
DTSTART:20261101T090000
END:STANDARD
BEGIN:DAYLIGHT
TZOFFSETFROM:-0800
TZOFFSETTO:-0700
TZNAME:PDT
DTSTART:20270314T100000
END:DAYLIGHT
BEGIN:STANDARD
TZOFFSETFROM:-0700
TZOFFSETTO:-0800
TZNAME:PST
DTSTART:20271107T090000
END:STANDARD
END:VTIMEZONE
BEGIN:VEVENT
DTSTART;TZID=America/Vancouver:20260330T183000
DTEND;TZID=America/Vancouver:20260330T230000
DTSTAMP:20260423T140449
CREATED:20260305T185044Z
LAST-MODIFIED:20260321T175057Z
UID:10001196-1774895400-1774911600@artsconnect.ing
SUMMARY:Train Wreck Brewing: Open Mic
DESCRIPTION:Join us every Monday and share your talents. Music\, comedy\, poetry\, or whatever you’ve got. The stage is yours!
URL:https://artsconnect.ing/artscalendar/train-wreck-brewing-open-mic-3/2026-03-30/
LOCATION:Train Wreck Brewing\, 3044 St Johns Street\, Port Moody\, BC\, V3H 2C5\, Canada
CATEGORIES:Comedy,Music,Open Mic,Poetry
ATTACH;FMTTYPE=image/jpeg:https://artsconnect.ing/wp-content/uploads/2026/03/655832404_10163996512723805_4157259386927779590_n.jpg
ORGANIZER;CN="Train Wreck Brewing":MAILTO:info@trainwreckbrewing.ca
END:VEVENT
BEGIN:VEVENT
DTSTART;TZID=America/Vancouver:20260331T170000
DTEND;TZID=America/Vancouver:20260331T170000
DTSTAMP:20260423T140449
CREATED:20260327T180658Z
LAST-MODIFIED:20260327T180658Z
UID:10001207-1774976400-1774976400@artsconnect.ing
SUMMARY:Ryan McAllister
DESCRIPTION:🎸 LIVE MUSIC! 🎸 \nJoin us on March.31st at 5pm for some amazing live music from Ryan McAllister! \nThis is a FREE event! Just arrive a little early to grab yourself a seat\, grab a couple cold pints and enjoy some great local live music! \nWe’ll see you there!
URL:https://artsconnect.ing/artscalendar/ryan-mcallister/
LOCATION:Mariner Brewing\, H - 1100 Lansdowne Drive\, Coquitlam\, BC\, V3B 5E2\, Canada
CATEGORIES:Music
ATTACH;FMTTYPE=image/jpeg:https://artsconnect.ing/wp-content/uploads/2026/03/656679395_1616036453381883_2015653744365498421_n.jpg
ORGANIZER;CN="Mariner Brewing":MAILTO:info@marinerbrewing.ca
END:VEVENT
BEGIN:VEVENT
DTSTART;TZID=America/Vancouver:20260331T180000
DTEND;TZID=America/Vancouver:20260331T210000
DTSTAMP:20260423T140449
CREATED:20260330T163006Z
LAST-MODIFIED:20260330T163006Z
UID:10001211-1774980000-1774990800@artsconnect.ing
SUMMARY:Rocky Point Spirits Open Mic
DESCRIPTION:ROCKY POINT SPIRITS OPEN MIC! Tuesday March 31st 2026! 6-9pm \nLocated at: Rocky Point Spirits 2805 Murray St\, Port Moody\, BC V3H 1X3 \nEvery Tuesday 6-9pm\, hosted by Joel David Shook \n‘Rocky Point Spirits Open Mic’ is a place for musicians to play their own music (originals or covers) for audience to enjoy 🎶 (NOT a Karaoke\, No Stand-up Comedy\, 19yrs+ 😊) \nHope to See you there! 🎶👍
URL:https://artsconnect.ing/artscalendar/rocky-point-spirits-open-mic-44/
LOCATION:Rocky Point Spirits\, 2805 Murray Street\, Port Moody\, BC\, V3H 1X3\, Canada
CATEGORIES:Music,Open Mic
ATTACH;FMTTYPE=image/jpeg:https://artsconnect.ing/wp-content/uploads/2026/03/657216213_10163936897615590_8481206674017348864_n.jpg
ORGANIZER;CN="Rocky Point Spirits":MAILTO:info@rockypointspirits.ca
END:VEVENT
BEGIN:VEVENT
DTSTART;TZID=America/Vancouver:20260331T183000
DTEND;TZID=America/Vancouver:20260331T183000
DTSTAMP:20260423T140449
CREATED:20260217T232444Z
LAST-MODIFIED:20260330T205438Z
UID:10001090-1774981800-1774981800@artsconnect.ing
SUMMARY:Words in the Burbs Farewell Gathering
DESCRIPTION:Hi friends! As many of you know\, we announced recently that the time had come to say goodbye. Some folks have asked if this is the end-end-for-sure-for-sure-end … the truth is\, we don’t know! We have some ideas and possibilities brewing in our heads for WIB in the future – possible evolutions or new creations. But what we DO know is that the time has come to say goodbye to the reading series as it has existed for the last eight years  \nSo\, we hope you’ll join us to come say goodbye. We’re not totally sure what our final gathering will look like but we plan to have cake. Save the date for March 31\, at 6:30 pm. (Note: we usually start at 7 pm – this is an EARLIER START TIME!) \n(If you’re on the North Shore: did you know that a WIB: North Shore edition started up last fall? They’ll be having another reading this spring. I’m sure we’ll post details when the time comes!)
URL:https://artsconnect.ing/artscalendar/words-in-the-burbs-farewell-gatheringfarewell-gathering/
LOCATION:Western Sky Books\, 2132-2850 Shaughnessy St.\, Port Coquitlam\, BC\, V3C 6K5\, Canada
CATEGORIES:Literary Arts
ATTACH;FMTTYPE=image/webp:https://artsconnect.ing/wp-content/uploads/2026/02/636808816_1203762068409527_9058541926421370662_n.webp
END:VEVENT
BEGIN:VEVENT
DTSTART;TZID=America/Vancouver:20260331T190000
DTEND;TZID=America/Vancouver:20260331T190000
DTSTAMP:20260423T140449
CREATED:20260119T204021Z
LAST-MODIFIED:20260119T204021Z
UID:10000914-1774983600-1774983600@artsconnect.ing
SUMMARY:Moody Rocks!
DESCRIPTION:Groove! Feel! Fun! Connection with each other\, our audiences\, and the songs – that’s what we focus on in Moody Rocks! \nIf you find yourself doing a lot of this – singing along with songs you love in the car or the shower or wherever – come join us! \nSo fun to sing great songs with a group! \nFor more information and to register\, please contact Scott Gould directly at scott@scottgould.ca
URL:https://artsconnect.ing/artscalendar/moody-rocks/2026-03-31/
LOCATION:Inlet United Church at the Springs\, 2315 Spring Street\, Port Moody\, BC\, V3H 0L7\, Canada
CATEGORIES:Music
ATTACH;FMTTYPE=image/jpeg:https://artsconnect.ing/wp-content/uploads/2026/01/Moody-Rocks-poster-Winter-Spring-2026.1-1.jpg
ORGANIZER;CN="Inlet United Church":MAILTO:office@inletunited.ca
END:VEVENT
BEGIN:VEVENT
DTSTART;TZID=America/Vancouver:20260331T235900
DTEND;TZID=America/Vancouver:20260331T235900
DTSTAMP:20260423T140449
CREATED:20260322T170020Z
LAST-MODIFIED:20260322T170020Z
UID:10001201-1775001540-1775001540@artsconnect.ing
SUMMARY:2 Year Anniversary Chapbook: Submissions Deadline
DESCRIPTION:Opportunity awaits! \nWe are now accepting submissions for our next chapbook- celebrating our 2nd anniversary of running events. \n* If you have attended any of our events in the past\, we welcome you to submit your work through the google form in our bio. \n📔Submissions will close on March 31st and selected poets will be informed by the beginning of April. \n📖 Selected poets will receive a free copy and be invited to perform at our two year anniversary show on May 5th. \nPlease email tricitiespoetry@gmail.com with any questions
URL:https://artsconnect.ing/artscalendar/2-year-anniversary-chapbook-submissions-deadline/
LOCATION:BC
CATEGORIES:Poetry
ATTACH;FMTTYPE=image/jpeg:https://artsconnect.ing/wp-content/uploads/2026/03/654795613_122235440294292890_8668220865993808238_n.jpg
ORGANIZER;CN="Tri Cities Poetry":MAILTO:tricitiespoetry@gmail.com
END:VEVENT
BEGIN:VEVENT
DTSTART;TZID=America/Vancouver:20260401T130000
DTEND;TZID=America/Vancouver:20260401T150000
DTSTAMP:20260423T140449
CREATED:20260320T173344Z
LAST-MODIFIED:20260320T173344Z
UID:10001192-1775048400-1775055600@artsconnect.ing
SUMMARY:Creative People Talking: Open Topic
DESCRIPTION:Open to all creative types\, our monthly social is a great way to meet art-minded people and delve into deeper conversations on the nature of our creative journeys. Free to attend. Open topic.
URL:https://artsconnect.ing/artscalendar/creative-people-open-topic/
LOCATION:Bevees\, 203-2748 Lougheed Hwy\, Port Coquitlam\, BC\, V3B 6P2\, Canada
CATEGORIES:Meetup
ATTACH;FMTTYPE=image/jpeg:https://artsconnect.ing/wp-content/uploads/2026/03/654936871_10164151645924872_2953300501399176647_n.jpg
END:VEVENT
BEGIN:VEVENT
DTSTART;TZID=America/Vancouver:20260401T173000
DTEND;TZID=America/Vancouver:20260401T203000
DTSTAMP:20260423T140449
CREATED:20260211T183937Z
LAST-MODIFIED:20260211T183937Z
UID:10001044-1775064600-1775075400@artsconnect.ing
SUMMARY:NOOD Life-Drawing Port Moody WEDNESDAYS
DESCRIPTION:Come join us for a fun evening of life-drawing in Port Moody WEDNESDAYS monthly 5:30-8:30 PM at PoMoArts\, 2425 St Johns Street! \n\n\n\n\nGet ready to unleash your creativity in a fun and relaxed atmosphere. Whether you’re a seasoned artist or just starting out\, this event is perfect for all skill levels. Grab your sketchbook and pencils\, and come draw with us! Don’t miss out on this exciting opportunity to practice your art skills and meet other local artists. See you there! \nThis is an adult-only event. Must be 19+ to attend. \nImage shown painted by Colin Campbell.
URL:https://artsconnect.ing/artscalendar/nood-life-drawing-port-moody-wednesdays-2/2026-04-01/
LOCATION:PoMoArts\, 2425 St. Johns Street\, Port Moody\, BC\, V3H 2B2\, Canada
CATEGORIES:Visual Arts
ATTACH;FMTTYPE=image/webp:https://artsconnect.ing/wp-content/uploads/2026/02/NOOD-Wednesdays.webp
ORGANIZER;CN="NOOD":MAILTO:https://nood.space/contact
END:VEVENT
BEGIN:VEVENT
DTSTART;TZID=America/Vancouver:20260401T180000
DTEND;TZID=America/Vancouver:20260401T203000
DTSTAMP:20260423T140449
CREATED:20260115T180007Z
LAST-MODIFIED:20260115T180007Z
UID:10000879-1775066400-1775075400@artsconnect.ing
SUMMARY:Sculpt & Giggle: Make Your Playful Clay Pal!
DESCRIPTION:Bring your imagination to life in this playful\, hands-on clay workshop! \nUsing simple hand-building techniques like pinching and coiling\, you’ll craft your very own quirky monsters\, fantastical creatures\, or whimsical characters. Go wild with exaggerated features\, silly expressions\, and unexpected details—or even use molds and playful tools to add extra personality. These little clay companions can be functional\, like a cute planter or a tiny dish\, or purely decorative—perfect for adding charm and laughter to any shelf or desk. Instructors will guide you step by step\, making it easy to let your creativity run free. \nCome ready to experiment\, giggle\, and get a little messy while making a one-of-a-kind creature that’s full of character\, imagination\, and fun!Due to the kiln-firing process\, finished mugs will be ready for pickup approximately 3–4 weeks after the workshop. \nAbout the Instructor\nRylan Cocks is an artist and art educator holding Bachelor’s of Fine Arts from Emily Carr University of Art and Design. Approaching his work with maximalist sensibilities such as over-patterning\, glimmers of gold and silver\, animal prints\, and the introduction of other mediums such as textiles and rhinestones\, Rylan’s practice brings forward a question of taste. This question of taste is not asking what makes good or bad art\, but inevitably how we should all forge our own creative sensibilities. Rylan has worked in an arts education capacity for over 4 years and hopes to encourage self-expression\, nurture imagination\, and help bring student’s work into fruition.
URL:https://artsconnect.ing/artscalendar/sculpt-giggle-make-your-playful-clay-pal/
LOCATION:PoMoArts\, 2425 St. Johns Street\, Port Moody\, BC\, V3H 2B2\, Canada
CATEGORIES:Visual Arts
ATTACH;FMTTYPE=image/jpeg:https://artsconnect.ing/wp-content/uploads/2026/01/616407647_1321274720039032_1373874189590105750_n.jpg
ORGANIZER;CN="PoMoArts":MAILTO:info@pomoarts.ca
END:VEVENT
BEGIN:VEVENT
DTSTART;TZID=America/Vancouver:20260401T190000
DTEND;TZID=America/Vancouver:20260401T203000
DTSTAMP:20260423T140449
CREATED:20260223T164752Z
LAST-MODIFIED:20260223T165235Z
UID:10001103-1775070000-1775075400@artsconnect.ing
SUMMARY:Artful Pints: Make Your Own Beer Coaster
DESCRIPTION:Join us for Artful Pints – a monthly art night hosted by PoMoArts! Each month features a different hands-on art project led by local artists. Whether you’re a seasoned creative or just in it for the fun\, you’ll leave with something uniquely yours – and maybe a new favorite beer\, too. All materials provided. Just bring yourself and your imagination! Hosted the first Wednesday of every month at The Parkside Brewery. \nThis is not a joke! You really will be able to make your own beer coaster! Artist Suze Mercado will lead you in a fun and creative Beer Coaster Collage Workshop! Using art magazine images\, you’ll transform simple coasters into mini works of art. No experience needed—just bring your imagination and leave with afunctional collage to take home. All supplies included. \nDrinks and snacks available to buy at Parkside Brewery.
URL:https://artsconnect.ing/artscalendar/artful-pints-make-your-own-beer-coaster/
LOCATION:Parkside Brewery\, 2731 Murray Street\, Port Moody\, BC\, V3H 1X1\, Canada
CATEGORIES:Arts and Crafts
ATTACH;FMTTYPE=image/webp:https://artsconnect.ing/wp-content/uploads/2026/02/68e99d589e260f7d75574472_2025-Parkside-Brewery-Beer-Coaster-Webbanner-1.webp
ORGANIZER;CN="PoMoArts":MAILTO:info@pomoarts.ca
END:VEVENT
BEGIN:VEVENT
DTSTART;TZID=America/Vancouver:20260401T190000
DTEND;TZID=America/Vancouver:20260401T210000
DTSTAMP:20260423T140449
CREATED:20260211T190430Z
LAST-MODIFIED:20260211T190430Z
UID:10001057-1775070000-1775077200@artsconnect.ing
SUMMARY:Port Coquitlam Song Writers Group - Drop In
DESCRIPTION:Connect with local songwriters\, share your songs\, collaborate on new ideas & get inspired at this creative drop-in session in Poco!\n\n\n\nPort Coquitlam Song Writers Group – Drop In\nLooking to share your tunes or get inspired? Join the Port Coquitlam Song Writers Group for a chill\, in-person session! Whether you’re polishing lyrics or just getting the creative juices flowing\, this drop-in event is all about creativity and good vibes. Bring your passion for songwriting. Everyone’s welcome—no pressure\, just fun and music. Come hang out and connect with fellow songwriters in the community! \nThe Port Coquitlam Songwriters Group aims to support writers at all stages\, from first-time participants to those continuing to develop their songwriting practice. The group remains in a drop-in format \, and no previous experience or attendance is required. \nTwo optional creative pathways will be offered allowing participants to choose the approach that best fits where they are in their writing journey. \nFor first-time writers or those looking for structure\, we will focus on writing with focus on our senses. Using guided prompts\, participants will explore sight\, sound\, touch\, taste\, and smell as entry points into lyric writing. \nFor participants who are more experienced or curious about writing to music\, the second pathway will explore writing lyrics to music without trying to make the words fit within the music. Writers may bring instrumental tracks\, chord progressions\, or simple melodies to share but otherwise we will have a few simple instrumental tracks to choose from. This exercise is one that we are hoping will be a organic no pressure way to let inspired lyrics flow. \nThe session will include: \n\nA check-in and\nGuided sensory-based writing exercises\nTime to write alongside music in an open\, pressure-free way\nOptional sharing and supportive reflection\n\nSharing is always optional\, and listening is considered full participation. \nThis workshop is ideal for anyone interested in experimenting with new approaches\, deepening emotional connection in their writing\, or simply creating in a supportive community space. All voices and experience levels are welcome.
URL:https://artsconnect.ing/artscalendar/port-coquitlam-song-writers-group-drop-in/
LOCATION:The Gathering Place\, 200-2253 Leigh Square Pl\, Port Coquitlam\, BC\, V3C 3B8\, Canada
CATEGORIES:Music
ATTACH;FMTTYPE=image/webp:https://artsconnect.ing/wp-content/uploads/2026/02/Port-Coquitlam-Song-Writers-Group-Drop-In.webp
ORGANIZER;CN="Poco Arts Council":MAILTO:https://pocoarts.wordpress.com/contact/
END:VEVENT
BEGIN:VEVENT
DTSTART;TZID=America/Vancouver:20260402T180000
DTEND;TZID=America/Vancouver:20260402T210000
DTSTAMP:20260423T140449
CREATED:20260402T174554Z
LAST-MODIFIED:20260402T181223Z
UID:10001217-1775152800-1775163600@artsconnect.ing
SUMMARY:Open Mic Night
DESCRIPTION:
URL:https://artsconnect.ing/artscalendar/open-mic-night-2/
LOCATION:Brave Brewing Company\, 2617 Murray Street\, Port Moody\, BC\, V3H 1X1\, Canada
CATEGORIES:Music,Open Mic
ATTACH;FMTTYPE=image/jpeg:https://artsconnect.ing/wp-content/uploads/2026/04/656485288_10163952854695590_9040232945010268711_n.jpg
ORGANIZER;CN="Brave Brewing Company":MAILTO:info@brave.beer
END:VEVENT
BEGIN:VEVENT
DTSTART;TZID=America/Vancouver:20260403T190000
DTEND;TZID=America/Vancouver:20260403T210000
DTSTAMP:20260423T140449
CREATED:20260402T174830Z
LAST-MODIFIED:20260402T174830Z
UID:10001218-1775242800-1775250000@artsconnect.ing
SUMMARY:Nathaniel Blunden
DESCRIPTION:
URL:https://artsconnect.ing/artscalendar/nathaniel-blunden/
LOCATION:Brave Brewing Company\, 2617 Murray Street\, Port Moody\, BC\, V3H 1X1\, Canada
CATEGORIES:Music
ATTACH;FMTTYPE=image/webp:https://artsconnect.ing/wp-content/uploads/2026/04/659173981_18003726935856331_1518901971382488596_n.webp
ORGANIZER;CN="Brave Brewing Company":MAILTO:info@brave.beer
END:VEVENT
BEGIN:VEVENT
DTSTART;TZID=America/Vancouver:20260403T213000
DTEND;TZID=America/Vancouver:20260403T213000
DTSTAMP:20260423T140449
CREATED:20260404T164113Z
LAST-MODIFIED:20260404T164113Z
UID:10001224-1775251800-1775251800@artsconnect.ing
SUMMARY:Live Music at the Well: DJ Blackout
DESCRIPTION:Fridays from 9:30pm to 12:30am\nApril 3\, 10\, 17\, 24 @yoseph_djblackout \nSaturdays from 9pm to midnight\nApril 4 @patrickgavigan\nApril 11 @jordanr_burgess\nApril 18 @nickhope_\nApril 25 Anthony P
URL:https://artsconnect.ing/artscalendar/live-music-at-the-well-dj-blackout-2/2026-04-03/
LOCATION:St. James’s Well\, 248 Newport Drive\, Port Moody\, BC\, V3H 5B9\, Canada
CATEGORIES:Music
ATTACH;FMTTYPE=image/jpeg:https://artsconnect.ing/wp-content/uploads/2026/04/658852718_18576107995019812_4625309240328056965_n.jpg
ORGANIZER;CN="St. James%E2%80%99s Well":MAILTO:https://stjameswell.ca/contact/
END:VEVENT
BEGIN:VEVENT
DTSTART;TZID=America/Vancouver:20260404T200000
DTEND;TZID=America/Vancouver:20260404T220000
DTSTAMP:20260423T140449
CREATED:20260402T175027Z
LAST-MODIFIED:20260402T175027Z
UID:10001220-1775332800-1775340000@artsconnect.ing
SUMMARY:The Here and Now
DESCRIPTION:
URL:https://artsconnect.ing/artscalendar/the-here-and-now/
LOCATION:Brave Brewing Company\, 2617 Murray Street\, Port Moody\, BC\, V3H 1X1\, Canada
CATEGORIES:Music
ATTACH;FMTTYPE=image/webp:https://artsconnect.ing/wp-content/uploads/2026/04/659173981_18003726935856331_1518901971382488596_n.webp
ORGANIZER;CN="Brave Brewing Company":MAILTO:info@brave.beer
END:VEVENT
BEGIN:VEVENT
DTSTART;TZID=America/Vancouver:20260404T210000
DTEND;TZID=America/Vancouver:20260404T210000
DTSTAMP:20260423T140449
CREATED:20260404T164525Z
LAST-MODIFIED:20260404T164525Z
UID:10001232-1775336400-1775336400@artsconnect.ing
SUMMARY:Live Music at the Well: Patrick Gavigan
DESCRIPTION:Fridays from 9:30pm to 12:30am\nApril 3\, 10\, 17\, 24 @yoseph_djblackout \nSaturdays from 9pm to midnight\nApril 4 @patrickgavigan\nApril 11 @jordanr_burgess\nApril 18 @nickhope_\nApril 25 Anthony P
URL:https://artsconnect.ing/artscalendar/live-music-at-the-well-patrick-gavigan/
LOCATION:St. James’s Well\, 248 Newport Drive\, Port Moody\, BC\, V3H 5B9\, Canada
CATEGORIES:Music
ATTACH;FMTTYPE=image/jpeg:https://artsconnect.ing/wp-content/uploads/2026/04/658852718_18576107995019812_4625309240328056965_n.jpg
ORGANIZER;CN="St. James%E2%80%99s Well":MAILTO:https://stjameswell.ca/contact/
END:VEVENT
BEGIN:VEVENT
DTSTART;TZID=America/Vancouver:20260405T160000
DTEND;TZID=America/Vancouver:20260405T190000
DTSTAMP:20260423T140449
CREATED:20260211T182918Z
LAST-MODIFIED:20260211T182918Z
UID:10001033-1775404800-1775415600@artsconnect.ing
SUMMARY:NOOD Life-Drawing Port Moody SUNDAYS
DESCRIPTION:Come join us for a fun evening of life-drawing in Port Moody held Sundays 4-7 PM at A1 Studio\, 2709 Esplanade Ave! \n\n\n\n\nGet ready to unleash your creativity in a fun and relaxed atmosphere. Whether you’re a seasoned artist or just starting out\, this event is perfect for all skill levels. Grab your sketchbook and pencils\, and come draw with us! Don’t miss out on this exciting opportunity to practice your art skills and meet other local artists. See you there! \nThis is an adult-only event. Must be 19+ to attend.
URL:https://artsconnect.ing/artscalendar/nood-life-drawing-port-moody-sundays-3/2026-04-05/
LOCATION:A1 Studio\, 2709 Esplanade Ave.\, Port Moody\, BC\, V3H 3P4\, Canada
CATEGORIES:Visual Arts
ATTACH;FMTTYPE=image/webp:https://artsconnect.ing/wp-content/uploads/2026/02/NOOD-Sundays.webp
ORGANIZER;CN="NOOD":MAILTO:https://nood.space/contact
END:VEVENT
END:VCALENDAR