BEGIN:VCALENDAR
VERSION:2.0
PRODID:-//ArtsConnect - ECPv6.15.20//NONSGML v1.0//EN
CALSCALE:GREGORIAN
METHOD:PUBLISH
X-ORIGINAL-URL:https://artsconnect.ing
X-WR-CALDESC:Events for ArtsConnect
REFRESH-INTERVAL;VALUE=DURATION:PT1H
X-Robots-Tag:noindex
X-PUBLISHED-TTL:PT1H
BEGIN:VTIMEZONE
TZID:America/Vancouver
BEGIN:DAYLIGHT
TZOFFSETFROM:-0800
TZOFFSETTO:-0700
TZNAME:PDT
DTSTART:20250309T100000
END:DAYLIGHT
BEGIN:STANDARD
TZOFFSETFROM:-0700
TZOFFSETTO:-0800
TZNAME:PST
DTSTART:20251102T090000
END:STANDARD
BEGIN:DAYLIGHT
TZOFFSETFROM:-0800
TZOFFSETTO:-0700
TZNAME:PDT
DTSTART:20260308T100000
END:DAYLIGHT
BEGIN:STANDARD
TZOFFSETFROM:-0700
TZOFFSETTO:-0800
TZNAME:PST
DTSTART:20261101T090000
END:STANDARD
BEGIN:DAYLIGHT
TZOFFSETFROM:-0800
TZOFFSETTO:-0700
TZNAME:PDT
DTSTART:20270314T100000
END:DAYLIGHT
BEGIN:STANDARD
TZOFFSETFROM:-0700
TZOFFSETTO:-0800
TZNAME:PST
DTSTART:20271107T090000
END:STANDARD
END:VTIMEZONE
BEGIN:VEVENT
DTSTART;TZID=America/Vancouver:20260427T183000
DTEND;TZID=America/Vancouver:20260427T230000
DTSTAMP:20260423T105026
CREATED:20260305T185044Z
LAST-MODIFIED:20260321T175057Z
UID:10001199-1777314600-1777330800@artsconnect.ing
SUMMARY:Train Wreck Brewing: Open Mic
DESCRIPTION:Join us every Monday and share your talents. Music\, comedy\, poetry\, or whatever you’ve got. The stage is yours!
URL:https://artsconnect.ing/artscalendar/train-wreck-brewing-open-mic-3/2026-04-27/
LOCATION:Train Wreck Brewing\, 3044 St Johns Street\, Port Moody\, BC\, V3H 2C5\, Canada
CATEGORIES:Comedy,Music,Open Mic,Poetry
ATTACH;FMTTYPE=image/jpeg:https://artsconnect.ing/wp-content/uploads/2026/03/655832404_10163996512723805_4157259386927779590_n.jpg
ORGANIZER;CN="Train Wreck Brewing":MAILTO:info@trainwreckbrewing.ca
END:VEVENT
BEGIN:VEVENT
DTSTART;TZID=America/Vancouver:20260430T180000
DTEND;TZID=America/Vancouver:20260430T190000
DTSTAMP:20260423T105026
CREATED:20260226T174034Z
LAST-MODIFIED:20260226T174252Z
UID:10001118-1777572000-1777575600@artsconnect.ing
SUMMARY:Poetry with Desserts
DESCRIPTION:Come for FREE Gelato or a coffee! \nFresh\, New\, Original Poetry!
URL:https://artsconnect.ing/artscalendar/poetry-with-desserts/2026-04-30/
LOCATION:Matteo’s Gelato\, 2615 Mary Hill Road\, Port Coquitlam\, BC\, V3C 3A9\, Canada
CATEGORIES:Poetry
ATTACH;FMTTYPE=image/webp:https://artsconnect.ing/wp-content/uploads/2025/09/Troupe-de-poetry-black-lines-logo.webp
ORGANIZER;CN="The Troupe de Poetry":MAILTO:karenh61@hotmail.com
END:VEVENT
BEGIN:VEVENT
DTSTART;TZID=America/Vancouver:20260430T180000
DTEND;TZID=America/Vancouver:20260430T210000
DTSTAMP:20260423T105026
CREATED:20260407T152435Z
LAST-MODIFIED:20260407T152435Z
UID:10001240-1777572000-1777582800@artsconnect.ing
SUMMARY:Connecting with Coquitlam's Past: Exhibit Opening Party
DESCRIPTION:Coquitlam Heritage Society and Coquitlam Grill have worked together to create a new\, permanent exhibit of archival photos & select artifacts\, allowing patrons to connect with our city’s history while dining at the iconic Coquitlam establishment. Items on display include images of firefighters and police officers & cooking tools from early in Coquitlam’s history. \nIn celebration of the exhibit\, the two organizations will be hosting a free opening party! Guests will be able to mingle and enjoy refreshments while taking in the displays. Those over 19+ will also receive a drink ticket upon arrival! \nThursday\, April 30th from 6:00 PM – 9:00 PM\nFree. All Ages.\nRegistration required (link here)\nCoquitlam Grill\, 2635 Barnet Hwy #108\, Coquitlam
URL:https://artsconnect.ing/artscalendar/connecting-with-coquitlams-past-exhibit-opening-party/
LOCATION:Coquitlam Grill\, 2635 Barnet Hwy #108\, Coquitlam\, BC\, V3E 1K9\, Canada
CATEGORIES:Photography
ATTACH;FMTTYPE=image/jpeg:https://artsconnect.ing/wp-content/uploads/2026/04/663043959_1526659839460899_1300824675626829611_n.jpg
ORGANIZER;CN="Coquitlam Heritage":MAILTO:info@coquitlamheritage.ca
END:VEVENT
BEGIN:VEVENT
DTSTART;TZID=America/Vancouver:20260430T193000
DTEND;TZID=America/Vancouver:20260430T213000
DTSTAMP:20260423T105026
CREATED:20260207T185838Z
LAST-MODIFIED:20260207T185838Z
UID:10001011-1777577400-1777584600@artsconnect.ing
SUMMARY:Stage 43: Incompetent Jurors
DESCRIPTION:INCOMPETENT JURORS\nPresented by Stage 43\nWritten by Ian McWethy\nABOUT THE SHOW\nWhen a man is accused of abducting half a dozen cats\, it’s a simple open-and-shut case\, even for a jury that’s filled with oddballs. After all\, every scrap of evidence indicts the accused\, yet\, Juror #8\, a wannabe lawyer\, believes the “Cat Burglar” is innocent. Can he sway the other jury members? Or will they side with Juror #3\, the only sane one in the room? Incompetent Jurors is a hilarious parody of 12 Angry Men. \nABOUT THE ARTIST\nStage 43 is a community theatre group that has been producing quality\, affordable theatre in the Tri-Cities since 1983. Every year\, Stage43 produces three shows at Evergreen. Stage 43 is part of the Theatre BC Fraser Valley Zone and a member of the Community Theatre Coalition. \nStage 43 is proud to call Evergreen Cultural Centre their home theatre\, and continues to make community connections a priority. \n\n\nSINGLE TICKETS ON SALE SEPTEMBER 1!\nAdults: $30 | Seniors: $25 | Students: $25 \nBOX OFFICE: 604.927.6555 | Open Monday – Saturday\, 12 – 5PM \nThis is a co-presentation organized by Stage 43 Theatrical Society.
URL:https://artsconnect.ing/artscalendar/stage-43-incompetent-jurors/2026-04-30/
LOCATION:Evergreen Cultural Centre Studio Theatre\, 1205 Pinetree Way\, Coquitlam\, BC\, V3B 7Y3\, Canada
CATEGORIES:Theatre
ATTACH;FMTTYPE=image/webp:https://artsconnect.ing/wp-content/uploads/2026/02/12-Incompetent-Jurors-v2-scaled-1.webp
END:VEVENT
BEGIN:VEVENT
DTSTART;TZID=America/Vancouver:20260430T235900
DTEND;TZID=America/Vancouver:20260430T235900
DTSTAMP:20260423T105026
CREATED:20260423T170756Z
LAST-MODIFIED:20260423T170756Z
UID:10001281-1777593540-1777593540@artsconnect.ing
SUMMARY:PoMoArts Artist Call for 2027 Exhibitions: Deadline
DESCRIPTION:PoMoArts is accepting exhibition proposals for the 2027 Season! \nWe are seeking compelling solo or group exhibitions across all disciplines\, including painting\, sculpture\, textiles\, photography\, digital and performance art\, installation\, ceramics\, and more! \nProposals with an immersive or participatory element are encouraged. \nThis is an opportunity to showcase your work within a vibrant\, community-connected arts organization that values bold ideas and meaningful artistic experiences to reflect and engage our diverse community. \n🗓️ Apply by April 30\, 2026.\n⛓️‍💥 More details at https://www.pomoarts.ca/artist-calls
URL:https://artsconnect.ing/artscalendar/pomoarts-artist-call-for-2027-exhibitions-deadline/
LOCATION:PoMoArts\, 2425 St. Johns Street\, Port Moody\, BC\, V3H 2B2\, Canada
CATEGORIES:Visual Arts
ATTACH;FMTTYPE=image/jpeg:https://artsconnect.ing/wp-content/uploads/2026/04/679784548_1403155401850963_6536465143082772338_n.jpg
ORGANIZER;CN="PoMoArts":MAILTO:info@pomoarts.ca
END:VEVENT
BEGIN:VEVENT
DTSTART;TZID=America/Vancouver:20260501T193000
DTEND;TZID=America/Vancouver:20260501T213000
DTSTAMP:20260423T105026
CREATED:20260207T185838Z
LAST-MODIFIED:20260207T185838Z
UID:10001012-1777663800-1777671000@artsconnect.ing
SUMMARY:Stage 43: Incompetent Jurors
DESCRIPTION:INCOMPETENT JURORS\nPresented by Stage 43\nWritten by Ian McWethy\nABOUT THE SHOW\nWhen a man is accused of abducting half a dozen cats\, it’s a simple open-and-shut case\, even for a jury that’s filled with oddballs. After all\, every scrap of evidence indicts the accused\, yet\, Juror #8\, a wannabe lawyer\, believes the “Cat Burglar” is innocent. Can he sway the other jury members? Or will they side with Juror #3\, the only sane one in the room? Incompetent Jurors is a hilarious parody of 12 Angry Men. \nABOUT THE ARTIST\nStage 43 is a community theatre group that has been producing quality\, affordable theatre in the Tri-Cities since 1983. Every year\, Stage43 produces three shows at Evergreen. Stage 43 is part of the Theatre BC Fraser Valley Zone and a member of the Community Theatre Coalition. \nStage 43 is proud to call Evergreen Cultural Centre their home theatre\, and continues to make community connections a priority. \n\n\nSINGLE TICKETS ON SALE SEPTEMBER 1!\nAdults: $30 | Seniors: $25 | Students: $25 \nBOX OFFICE: 604.927.6555 | Open Monday – Saturday\, 12 – 5PM \nThis is a co-presentation organized by Stage 43 Theatrical Society.
URL:https://artsconnect.ing/artscalendar/stage-43-incompetent-jurors/2026-05-01/
LOCATION:Evergreen Cultural Centre Studio Theatre\, 1205 Pinetree Way\, Coquitlam\, BC\, V3B 7Y3\, Canada
CATEGORIES:Theatre
ATTACH;FMTTYPE=image/webp:https://artsconnect.ing/wp-content/uploads/2026/02/12-Incompetent-Jurors-v2-scaled-1.webp
END:VEVENT
BEGIN:VEVENT
DTSTART;TZID=America/Vancouver:20260502T193000
DTEND;TZID=America/Vancouver:20260502T213000
DTSTAMP:20260423T105026
CREATED:20260207T185838Z
LAST-MODIFIED:20260207T185838Z
UID:10001013-1777750200-1777757400@artsconnect.ing
SUMMARY:Stage 43: Incompetent Jurors
DESCRIPTION:INCOMPETENT JURORS\nPresented by Stage 43\nWritten by Ian McWethy\nABOUT THE SHOW\nWhen a man is accused of abducting half a dozen cats\, it’s a simple open-and-shut case\, even for a jury that’s filled with oddballs. After all\, every scrap of evidence indicts the accused\, yet\, Juror #8\, a wannabe lawyer\, believes the “Cat Burglar” is innocent. Can he sway the other jury members? Or will they side with Juror #3\, the only sane one in the room? Incompetent Jurors is a hilarious parody of 12 Angry Men. \nABOUT THE ARTIST\nStage 43 is a community theatre group that has been producing quality\, affordable theatre in the Tri-Cities since 1983. Every year\, Stage43 produces three shows at Evergreen. Stage 43 is part of the Theatre BC Fraser Valley Zone and a member of the Community Theatre Coalition. \nStage 43 is proud to call Evergreen Cultural Centre their home theatre\, and continues to make community connections a priority. \n\n\nSINGLE TICKETS ON SALE SEPTEMBER 1!\nAdults: $30 | Seniors: $25 | Students: $25 \nBOX OFFICE: 604.927.6555 | Open Monday – Saturday\, 12 – 5PM \nThis is a co-presentation organized by Stage 43 Theatrical Society.
URL:https://artsconnect.ing/artscalendar/stage-43-incompetent-jurors/2026-05-02/
LOCATION:Evergreen Cultural Centre Studio Theatre\, 1205 Pinetree Way\, Coquitlam\, BC\, V3B 7Y3\, Canada
CATEGORIES:Theatre
ATTACH;FMTTYPE=image/webp:https://artsconnect.ing/wp-content/uploads/2026/02/12-Incompetent-Jurors-v2-scaled-1.webp
END:VEVENT
BEGIN:VEVENT
DTSTART;TZID=America/Vancouver:20260503T140000
DTEND;TZID=America/Vancouver:20260503T160000
DTSTAMP:20260423T105026
CREATED:20260422T163119Z
LAST-MODIFIED:20260422T163119Z
UID:10001275-1777816800-1777824000@artsconnect.ing
SUMMARY:Book Launch for YA Mystery\, and MG & YA Fantasy
DESCRIPTION:Join Bonnie Jacoby\, Harper Carr\, and Allison Finley as they celebrate their recent book releases for Middle Grade and Young Adult readers. \nTo Dare a Dragon (by Bonnie Jacoby)\, The Shadow Man (by Harper Carr)\, and A Night for Mischief (by Allison Finley). \nSUNDAY\, MAY 3rd\, 2026\n2:00-4:00 PM \nLakeside Terrace Social Room\nBetween 1189 Westwood Street & 1200 Eastwood Street\, Coquitlam \nDIRECTIONS: \nTransit – Just one block south of Lafarge Lake Sky Train Station on the Millennium Line’s Evergreen Extension. \nDrive – Park on Westwood\, Eastwood\, or underground off 3065 Primrose Lane. Head up Westwood or Eastwood and enter the complex gardens. Then follow the balloons to the centre of the complex gardens below the tower!
URL:https://artsconnect.ing/artscalendar/book-launch-for-ya-mystery-and-mg-ya-fantasy/
LOCATION:Lakeside Terrace Social Room\, 1189 Westwood Street\, Coquitlam\, BC\, V3B 7R8\, Canada
CATEGORIES:Literary Arts
ATTACH;FMTTYPE=image/jpeg:https://artsconnect.ing/wp-content/uploads/2026/04/673835223_1662928025489330_5175047862608962671_n.jpg
ORGANIZER;CN="Bonnie Jacoby":MAILTO:https://www.bonniejacoby.com/contact/
END:VEVENT
BEGIN:VEVENT
DTSTART;TZID=America/Vancouver:20260503T150000
DTEND;TZID=America/Vancouver:20260503T170000
DTSTAMP:20260423T105026
CREATED:20260207T185838Z
LAST-MODIFIED:20260207T185838Z
UID:10001014-1777820400-1777827600@artsconnect.ing
SUMMARY:Stage 43: Incompetent Jurors
DESCRIPTION:INCOMPETENT JURORS\nPresented by Stage 43\nWritten by Ian McWethy\nABOUT THE SHOW\nWhen a man is accused of abducting half a dozen cats\, it’s a simple open-and-shut case\, even for a jury that’s filled with oddballs. After all\, every scrap of evidence indicts the accused\, yet\, Juror #8\, a wannabe lawyer\, believes the “Cat Burglar” is innocent. Can he sway the other jury members? Or will they side with Juror #3\, the only sane one in the room? Incompetent Jurors is a hilarious parody of 12 Angry Men. \nABOUT THE ARTIST\nStage 43 is a community theatre group that has been producing quality\, affordable theatre in the Tri-Cities since 1983. Every year\, Stage43 produces three shows at Evergreen. Stage 43 is part of the Theatre BC Fraser Valley Zone and a member of the Community Theatre Coalition. \nStage 43 is proud to call Evergreen Cultural Centre their home theatre\, and continues to make community connections a priority. \n\n\nSINGLE TICKETS ON SALE SEPTEMBER 1!\nAdults: $30 | Seniors: $25 | Students: $25 \nBOX OFFICE: 604.927.6555 | Open Monday – Saturday\, 12 – 5PM \nThis is a co-presentation organized by Stage 43 Theatrical Society.
URL:https://artsconnect.ing/artscalendar/stage-43-incompetent-jurors/2026-05-03/
LOCATION:Evergreen Cultural Centre Studio Theatre\, 1205 Pinetree Way\, Coquitlam\, BC\, V3B 7Y3\, Canada
CATEGORIES:Theatre
ATTACH;FMTTYPE=image/webp:https://artsconnect.ing/wp-content/uploads/2026/02/12-Incompetent-Jurors-v2-scaled-1.webp
END:VEVENT
BEGIN:VEVENT
DTSTART;TZID=America/Vancouver:20260503T235900
DTEND;TZID=America/Vancouver:20260503T235900
DTSTAMP:20260423T105026
CREATED:20260417T195658Z
LAST-MODIFIED:20260417T195658Z
UID:10001264-1777852740-1777852740@artsconnect.ing
SUMMARY:Public Art Calls | City of Port Moody: Deadline
DESCRIPTION:Public Art Calls\n\n\n\n\n\n\n\n\n“Public art helps to make Port Moody aesthetically pleasing and interesting. It builds our community by enhancing quality of life\, contributing to economic development and helps us to celebrate our rich history. It brings art to life for our citizens in many everyday settings. Public art shows Port Moody’s commitment to local artists and provides residents with access to art from British Columbia\, Canada\, and around the world.” Port Moody Official Community Plan\, Chapter 10 \nNew Public Art Call\nInlet Park Community Fieldhouse\nIntegrated Mosaic Tile Artwork Design\nThe City of Port Moody invites Expressions of Interest (EOI) from professional artists residing in British Columbia and eligible to work in Canada to create an integrated mosaic tile artwork design for the new Inlet Park Community Fieldhouse\, located at 3024 Murray Street\, Port Moody\, BC. \nTheme\nArtist Opportunity\nShortlisted artists will be invited to propose a unique mosaic tile design to be integrated into walls in the eastern stairwell of the fieldhouse. The tiles will be square or rectangular glass mosaic tiles. More information regarding the type\, size\, and colour options for the mosaic tiles will be provided to shortlisted artists during the second stage of the selection process. \nAn artist honorarium of $1\,500 will be provided to each shortlisted artist to further develop their concept proposal. \nThe commissioned artist will create and submit a final digital artwork file and will work with City staff and City contractors to support the implementation of the approved design within the stairwell. \n\nThemes\nArtists are encouraged to explore any aspect of the overarching theme:\nInlet Park: A Community Space for Connection\, Play\, and Growth. \nThe artwork should be colourful\, playful and joyful.  While allowing for artistic expression\, the successful artist must consider the viewer’s experience both up close in the stairwell and hallway and from the sidewalk outside\, looking in. \nConcepts to consider: \nConnection\nConnection highlights the relationships formed in shared spaces—among community\, art\, culture\, heritage\, and the natural environment. The mosaic may reflect the places and experiences that bring people together to connect and thrive. \nPlay\nPlay celebrates curiosity\, imagination\, and joyful interaction across all ages. Through movement\, colour\, and pattern\, the artwork can evoke exploration and invite meaningful\, lighthearted engagement. \nGrowth\nGrowth represents change over time. The artwork may symbolize resilience and the ongoing evolution of the park as a place where people and nature develop together. \nProcess overview\n\nCall for qualifications: Artists interested in this opportunity should carefully review the guidelines outlined in this call for qualifications. Ensure you understand all requirements\, deadlines\, and specific criteria related to the application.\nSelection jury review: A selection jury will assess the submitted qualifications and shortlist up to three artists or artist teams.\nDesign presentation: The shortlisted artists or teams will be invited to present their Detailed Concept Proposal.\nFinal selection: The jury will select the final artist and design to proceed with the project.\n\nTo apply\, submit your qualifications and required materials as a single PDF document (10MB) by the deadline. Label your PDF with your name or team name and email it to communityartscoordinator@portmoody.ca with the subject line “Inlet Park Community Fieldhouse – (your name.)’ All submissions must be received by 11:59pm on Sunday May 3\, 2026. Good luck\, and we look forward to seeing your ideas come to life!
URL:https://artsconnect.ing/artscalendar/public-art-calls-city-of-port-moody-deadline/
LOCATION:City of Port Moody\, Port Moody\, BC\, Canada
CATEGORIES:Public Art,Visual Arts
ATTACH;FMTTYPE=image/webp:https://artsconnect.ing/wp-content/uploads/2026/04/portmoodylogo.webp
END:VEVENT
END:VCALENDAR